BEGIN:VCALENDAR
VERSION:2.0
PRODID:-//ChamberMaster//Event Calendar 2.0//EN
METHOD:PUBLISH
X-PUBLISHED-TTL:P3D
REFRESH-INTERVAL:P3D
CALSCALE:GREGORIAN
BEGIN:VEVENT
DTSTART:20180817T230000Z
DTEND:20180818T020000Z
X-MICROSOFT-CDO-ALLDAYEVENT:FALSE
SUMMARY:2018 Jefferson House "Stand Up For Kids!" Comedy Night
DESCRIPTION:Join Heartland Family Service for their annual Jefferson House "Stand Up For Kids!" Comedy Night! This year's theme is Where Hope Grows! \n\n\n\n"Spirit of Jefferson House" Award Recipients | Teresa and Terry Woolridge\n\n\n\nJefferson House Advisory Board Members\n\n\n\nJeff Hoffman | President\n\nDr. Aaron Dalton | President-Elect\n\nJessica Fickbohm | Secretary\n\nLaura Peters | Treasurer\n\nKurt Bottorff\n\nJenny Estudillo\n\nJo Fritz\n\nKate Kavan\n\nDeb Maurer\n\nWendy Olson\n\nRachel Sorenson\n\nMichelle Wiese
X-ALT-DESC;FMTTYPE=text/html:Join Heartland Family Service for their annual Jefferson House &quot\;Stand Up For Kids!&quot\; Comedy Night!&nbsp\;This year&#39\;s theme is Where Hope Grows!&nbsp\;<br />\n<br />\n&quot\;Spirit of Jefferson House&quot\; Award Recipients | Teresa and Terry Woolridge<br />\n<br />\n<u>Jefferson House Advisory Board Members</u><br />\n<br />\nJeff Hoffman | President<br />\nDr. Aaron Dalton | President-Elect<br />\nJessica Fickbohm | Secretary<br />\nLaura Peters | Treasurer<br />\nKurt Bottorff<br />\nJenny Estudillo<br />\nJo Fritz<br />\nKate Kavan<br />\nDeb Maurer<br />\nWendy Olson<br />\nRachel Sorenson<br />\nMichelle Wiese
LOCATION:Fremont Golf Club | 2710 North Somers Avenue\, Fremont\, NE 68025
UID:e.881.12985
SEQUENCE:3
DTSTAMP:20260422T101204Z
URL:https://chamber.fremontne.org/events/details/2018-jefferson-house-stand-up-for-kids-comedy-night-12985
END:VEVENT

END:VCALENDAR
