BEGIN:VCALENDAR
VERSION:2.0
PRODID:-//ChamberMaster//Event Calendar 2.0//EN
METHOD:PUBLISH
X-PUBLISHED-TTL:P3D
REFRESH-INTERVAL:P3D
CALSCALE:GREGORIAN
BEGIN:VEVENT
DTSTART:20250326T163000Z
DTEND:20250326T180000Z
X-MICROSOFT-CDO-ALLDAYEVENT:FALSE
SUMMARY:2025 Excellence in Agriculture Awards Luncheon
DESCRIPTION:Join us for an unforgettable celebration at the 2025 Excellence in Agriculture Awards Luncheon!   \n\n\n\n  Date: Wednesday\, March 26th 2025\n\n   Time: 11:30 am - 1:00 pm\n\n  Location: Fremont City Auditorium\n\n    Individual Tickets | $45\n\n Table for 8 |$360\n\n\n\n  Come together with the community as we recognize and applaud the outstanding achievements of agricultural businesses within the Fremont Area Chamber!\n\n See you at the Excellence in Agriculture Awards Luncheon!
X-ALT-DESC;FMTTYPE=text/html:<div style="text-align: center\;"><span style="font-size:18px\;"><span style="font-family:verdana\;"><span style="font-size:24px\;"><strong>&#127806\;&#127942\; Join us for an unforgettable celebration at the 2025&nbsp\;Excellence in Agriculture Awards Luncheon! &#127942\;&#127806\;</strong></span></span></span><br />\n<br />\n<span style="text-align: center\; font-family: verdana\; font-size: 18px\;">&#128467\;&#65039\;</span><span style="font-size:18px\;"><span style="font-family:verdana\;">Date: Wednesday\, March 26th&nbsp\;2025</span></span><br />\n<span style="font-family: verdana\; font-size: 18px\; text-align: center\;">&#128343\;&nbsp\;</span>&nbsp\;<span style="font-size:18px\;"><span style="font-family:verdana\;">Time: 11:30 am - 1:00 pm</span></span><br />\n<span style="font-family: verdana\; font-size: 18px\; text-align: center\;">&#128205\;&nbsp\;</span><span style="font-size:18px\;"><span style="font-family:verdana\;">Location: Fremont City Auditorium</span></span><br />\n<span style="text-align: center\; font-family: verdana\; font-size: 18px\;">&#127903\;&#65039\;&nbsp\;</span><span style="text-align: center\;">&nbsp\;</span><span style="text-align: center\; font-size: 18px\;"><span style="font-family: verdana\;">Individual Tickets | $45<br />\n&nbsp\;Table for 8&nbsp\;</span></span><span style="text-align: center\; font-size: 18px\;"><span style="font-family: verdana\;">|$360</span></span><br />\n<br />\n<span style="font-family: verdana\; font-size: 18px\; text-align: center\;">&#127881\; </span><span style="font-size:18px\;"><span style="font-family:verdana\;">Come together with the community as we recognize and applaud the outstanding achievements of agricultural businesses within the Fremont Area Chamber!</span></span><br />\n<span style="font-size:18px\;"><span style="font-family:verdana\;">&nbsp\;See you at the Excellence in Agriculture Awards Luncheon! &#127775\;&#128668\;</span></span></div>\n
LOCATION:Fremont City Auditorium
UID:e.881.16402
SEQUENCE:3
DTSTAMP:20260421T015909Z
URL:https://chamber.fremontne.org/events/details/2025-excellence-in-agriculture-awards-luncheon-16402
END:VEVENT

END:VCALENDAR
