BEGIN:VCALENDAR
VERSION:2.0
PRODID:-//ChamberMaster//Event Calendar 2.0//EN
METHOD:PUBLISH
X-PUBLISHED-TTL:P3D
REFRESH-INTERVAL:P3D
CALSCALE:GREGORIAN
BEGIN:VEVENT
DTSTART:20250128T173000Z
DTEND:20250128T190000Z
X-MICROSOFT-CDO-ALLDAYEVENT:FALSE
SUMMARY:2025 State of the City Address
DESCRIPTION:State of the City with Mayor Spellerberg  \n\n\n\nJoin us for an exclusive insight into the future of Fremont at the eagerly anticipated State of the City event\, presented by ALLO Fiber\, featuring Mayor Spellerberg.  \n\n\n\n  Date: Tuesday\, January 28\, 2025\n\n   Time: 11:30 AM - 1:00 PM\n\n  Location: Fremont Golf Club\n\n\n\nThis engaging event promises an informative address from Mayor Spellerberg about the city's progress\, vision\, and upcoming developments.\n\n\n\n   Ticket Information:\n\nIndividual Ticket: $40\n\nTable of 8 with VIP Seating: $320\n\n\n\nSecure your seat at this prominent gathering by purchasing your tickets through our website.\n\n\n\nAct fast - seats are limited and selling out swiftly!
X-ALT-DESC;FMTTYPE=text/html:<div style="text-align: center\;"><span style="font-family: verdana\; text-align: center\; font-size: 28px\;"><strong>&#127775\;State of the City with Mayor Spellerberg&#127961\;&#65039\;</strong></span><br style="font-family: verdana\; font-size: 20px\; text-align: center\;" />\n<br style="font-family: verdana\; font-size: 20px\; text-align: center\;" />\n<span style="font-family: verdana\; font-size: 20px\; text-align: center\;">Join us for an exclusive insight into the future of Fremont at the eagerly anticipated State of the City event\, presented by ALLO Fiber\, featuring Mayor Spellerberg. &#127908\;</span><br style="font-family: verdana\; font-size: 20px\; text-align: center\;" />\n<br style="font-family: verdana\; font-size: 20px\; text-align: center\;" />\n<span style="font-family: verdana\; font-size: 20px\; text-align: center\;">&#128197\; Date: Tuesday\, January 28\, 2025</span><br style="font-family: verdana\; font-size: 20px\; text-align: center\;" />\n<span style="font-family: verdana\; font-size: 20px\; text-align: center\;">&#128368\;&#65039\; Time: 11:30 AM - 1:00 PM</span><br style="font-family: verdana\; font-size: 20px\; text-align: center\;" />\n<span style="font-family: verdana\; font-size: 20px\; text-align: center\;">&#128205\; Location: Fremont Golf Club</span><br style="font-family: verdana\; font-size: 20px\; text-align: center\;" />\n<br style="font-family: verdana\; font-size: 20px\; text-align: center\;" />\n<span style="font-family: verdana\; font-size: 20px\; text-align: center\;">This engaging event promises an informative address from Mayor Spellerberg about the city&#39\;s progress\, vision\, and upcoming developments.</span><br style="font-family: verdana\; font-size: 20px\; text-align: center\;" />\n<br style="font-family: verdana\; font-size: 20px\; text-align: center\;" />\n<span style="font-family: verdana\; font-size: 20px\; text-align: center\;">&#127903\;&#65039\; Ticket Information:</span><br style="font-family: verdana\; font-size: 20px\; text-align: center\;" />\n<span style="font-family: verdana\; font-size: 20px\; text-align: center\;">Individual Ticket: $40</span><br style="font-family: verdana\; font-size: 20px\; text-align: center\;" />\n<span style="font-family: verdana\; font-size: 20px\; text-align: center\;">Table of 8 with VIP Seating: $320</span><br style="font-family: verdana\; font-size: 20px\; text-align: center\;" />\n<br style="font-family: verdana\; font-size: 20px\; text-align: center\;" />\n<span style="font-family: verdana\; font-size: 20px\; text-align: center\;">Secure your seat at this prominent gathering by purchasing your tickets through our website.</span><br style="font-family: verdana\; font-size: 20px\; text-align: center\;" />\n<br style="font-family: verdana\; font-size: 20px\; text-align: center\;" />\n<span style="font-family: verdana\; font-size: 20px\; text-align: center\;">Act fast -&nbsp\;seats are limited and selling out swiftly!&#10024\;&#127963\;&#65039\;</span></div>\n
LOCATION:
UID:e.881.16425
SEQUENCE:3
DTSTAMP:20260421T011701Z
URL:https://chamber.fremontne.org/events/details/2025-state-of-the-city-address-16425
END:VEVENT

END:VCALENDAR
