BEGIN:VCALENDAR
VERSION:2.0
PRODID:-//ChamberMaster//Event Calendar 2.0//EN
METHOD:PUBLISH
X-PUBLISHED-TTL:P3D
REFRESH-INTERVAL:P3D
CALSCALE:GREGORIAN
BEGIN:VEVENT
DTSTART:20180720T130000Z
DTEND:20180720T170000Z
X-MICROSOFT-CDO-ALLDAYEVENT:FALSE
SUMMARY:26th Annual First State Bank & Trust / Whitetail Run Jr. Boys & Girls Golf Tournament
DESCRIPTION:9-Holes | Ages 15-17 (8:00 a.m. check-in time)\n\n9-Holes | Ages 13-14 (8:00 a.m. check-in time)\n\n9-Holes | Ages 11-12 (8:30 a.m. check-in time)\n\n6-Holes | Ages 9-10 (8:20 a.m. check-in time)*\n\n3-Holes | Ages 6-8 (8:20 a.m. check-in time)*\n\n\n\nSpecial mini-clinic for Age 6-10 participants begins at 8:30 a.m.\n\n\n\n*It is highly recommended that a parent/adult stay at the course and walk with golfers ages 10 and under.\n\n\n\nPrizes & Lunch will be provided after the tournament.\n\n\n\nRegistration Requirements:\n\n\n\nParticipants should be a resident of the Fremont (reside within approximately 20 miles of Fremont).\n\n\n\nThere is no registration fee\, however\, advance registration is required. Please register by noon on Friday\, July 6th to be guaranteed a free t-shirt. Registrations will be accepted until Wednesday\, July 18th.\n\n\n\nRegister at https://www.fsbtfremont.bank/index.cfm/events-promotions. \n\n\n\nTee times are not scheduled in advance. Tee times are assigned as players arrive to maximize course efficiency.
X-ALT-DESC;FMTTYPE=text/html:<span style="color:rgb(75\, 79\, 86)\; font-family:helvetica\,arial\,sans-serif\; font-size:14px">9-Holes | Ages 15-17 (8:00 a.m. check-in time)</span><br />\n<span style="color:rgb(75\, 79\, 86)\; font-family:helvetica\,arial\,sans-serif\; font-size:14px">9-Holes | Ages 13-14 (8:00 a.m. check-in time)</span><br />\n<span style="color:rgb(75\, 79\, 86)\; font-family:helvetica\,arial\,sans-serif\; font-size:14px">9-Holes | Ages 11-12 (8:30 a.m. check-in time)</span><br />\n<span style="color:rgb(75\, 79\, 86)\; font-family:helvetica\,arial\,sans-serif\; font-size:14px">6-Holes | Ages 9-10 (8:20 a.m. check-in time)*</span><br />\n<span style="color:rgb(75\, 79\, 86)\; font-family:helvetica\,arial\,sans-serif\; font-size:14px">3-Holes | Ages 6-8 (8:20 a.m. check-in time)*</span><br />\n<br />\n<span style="color:rgb(75\, 79\, 86)\; font-family:helvetica\,arial\,sans-serif\; font-size:14px">Special mini-clinic for Age 6-10 participants begins at 8:30 a.m.</span><br />\n<br />\n<span style="color:rgb(75\, 79\, 86)\; font-family:helvetica\,arial\,sans-serif\; font-size:14px">*It is highly recommended that a parent/adult stay at the course and walk with golfers ages 10 and under.</span><br />\n<br />\n<span style="color:rgb(75\, 79\, 86)\; font-family:helvetica\,arial\,sans-serif\; font-size:14px">Prizes &amp\; Lunch will be provided after the tournament.</span><br />\n<br />\n<span style="color:rgb(75\, 79\, 86)\; font-family:helvetica\,arial\,sans-serif\; font-size:14px">Registration Requirements:<br />\n<br />\nParticipants should be a resident of the Fremont (reside within approximately 20 miles of Fremont).<br />\n<br />\nThere is no registration fee\, however\, advance registration is required. Please register by noon on Friday\, July 6th to be guaranteed a free t-shirt. Registrations will be accepted until Wednesday\, July 18th.<br />\n<br />\nRegister at&nbsp\;</span>https://www.fsbtfremont.bank/index.cfm/events-promotions<span style="color:rgb(75\, 79\, 86)\; font-family:helvetica\,arial\,sans-serif\; font-size:14px">.&nbsp\;<br />\n<br />\nTee times are not scheduled in advance. Tee times are assigned as players arrive to maximize course efficiency.</span>
LOCATION:Whitetail Run Golf Course - 2725 Reed Lane\, Fremont\, NE 68025
UID:e.881.14151
SEQUENCE:3
DTSTAMP:20260422T113556Z
URL:https://chamber.fremontne.org/events/details/26th-annual-first-state-bank-trust-whitetail-run-jr-boys-girls-golf-tournament-14151
END:VEVENT

END:VCALENDAR
