BEGIN:VCALENDAR
VERSION:2.0
PRODID:-//ChamberMaster//Event Calendar 2.0//EN
METHOD:PUBLISH
X-PUBLISHED-TTL:P3D
REFRESH-INTERVAL:P3D
CALSCALE:GREGORIAN
BEGIN:VEVENT
DTSTART;VALUE=DATE:20230714
DTEND;VALUE=DATE:20230717
TRANSP:TRANSPARENT
X-MICROSOFT-CDO-ALLDAYEVENT:TRUE
SUMMARY:35th Annual John C Fremont Days
DESCRIPTION:35th Annual John C Fremont Days 3 day City wide fun filled family festival July 14th - 16th  City wide
X-ALT-DESC;FMTTYPE=text/html:<strong>35th Annual John C Fremont Days&nbsp\;</strong>3 day City wide fun filled family festival July 14th - 16th&nbsp\; City wide
LOCATION:City Wide
UID:e.881.15393
SEQUENCE:3
DTSTAMP:20260423T004943Z
URL:https://chamber.fremontne.org/events/details/35th-annual-john-c-fremont-days-15393
END:VEVENT

END:VCALENDAR
