BEGIN:VCALENDAR
VERSION:2.0
PRODID:-//ChamberMaster//Event Calendar 2.0//EN
METHOD:PUBLISH
X-PUBLISHED-TTL:P3D
REFRESH-INTERVAL:P3D
CALSCALE:GREGORIAN
BEGIN:VEVENT
DTSTART;VALUE=DATE:20230713
DTEND;VALUE=DATE:20230714
TRANSP:TRANSPARENT
X-MICROSOFT-CDO-ALLDAYEVENT:TRUE
SUMMARY:35th Annual John C Fremont Days Opening Ceremonies
DESCRIPTION:35th Annual John C Fremont Days is July 13th\, 2023 at 6:00pm\, this is in conjunction with the final Main Street Fremont Concert in the Park Series.
X-ALT-DESC;FMTTYPE=text/html:35th Annual John C Fremont Days is July 13th\, 2023 at 6:00pm\, this is in conjunction with the final Main Street Fremont Concert in the Park Series.&nbsp\;
LOCATION:John C Fremont City Park
UID:e.881.15392
SEQUENCE:3
DTSTAMP:20260423T010121Z
URL:https://chamber.fremontne.org/events/details/35th-annual-john-c-fremont-days-opening-ceremonies-15392
END:VEVENT

END:VCALENDAR
