BEGIN:VCALENDAR
VERSION:2.0
PRODID:-//ChamberMaster//Event Calendar 2.0//EN
METHOD:PUBLISH
X-PUBLISHED-TTL:P3D
REFRESH-INTERVAL:P3D
CALSCALE:GREGORIAN
BEGIN:VEVENT
DTSTART;VALUE=DATE:20181025
DTEND;VALUE=DATE:20181026
TRANSP:TRANSPARENT
X-MICROSOFT-CDO-ALLDAYEVENT:TRUE
SUMMARY:7th Annual - Life Is Sweet
DESCRIPTION:Benefit/Fundraiser for Life Choices in Fremont. An evening of fun as local auctioneer Brad Martindale\, of Marindale and Associates\, offers up scrupmtious and creative desserts to bidders. Desserts are made and donated by area pastors and church folks. Complimentary snacks and beverages are provided at the event. All proceeds go to Life Choices\, a pro-life Pregnancy Resource Center to provide peer counseling\, pregnancy testing\, parenting classes\, diaper program and ultrasounds all free of charge to Fremont area clients.
X-ALT-DESC;FMTTYPE=text/html:Benefit/Fundraiser for Life Choices in Fremont. An evening of fun as local auctioneer Brad Martindale\, of Marindale and Associates\, offers up scrupmtious and creative desserts to bidders. Desserts are made and donated by area pastors and church folks. Complimentary snacks and beverages are provided at the event. All proceeds go to Life Choices\, a pro-life Pregnancy Resource Center to provide peer counseling\, pregnancy testing\, parenting classes\, diaper program and ultrasounds all free of charge to Fremont area clients.
LOCATION:Nye Legacy at 3210 N Clarkson Street in the Terrace Room
UID:e.881.14257
SEQUENCE:3
DTSTAMP:20260422T085114Z
URL:https://chamber.fremontne.org/events/details/7th-annual-life-is-sweet-14257
END:VEVENT

END:VCALENDAR
