BEGIN:VCALENDAR
VERSION:2.0
PRODID:-//ChamberMaster//Event Calendar 2.0//EN
METHOD:PUBLISH
X-PUBLISHED-TTL:P3D
REFRESH-INTERVAL:P3D
CALSCALE:GREGORIAN
BEGIN:VEVENT
DTSTART:20191102T210000Z
DTEND:20191103T000000Z
X-MICROSOFT-CDO-ALLDAYEVENT:FALSE
SUMMARY:A CAPELLA HONOR CHOIR - Midland Arts
DESCRIPTION:A CAPELLA HONOR CHOIR - Midland Arts
X-ALT-DESC;FMTTYPE=text/html:A CAPELLA HONOR CHOIR - Midland Arts
LOCATION:Clemmons Chapel
UID:e.881.14663
SEQUENCE:3
DTSTAMP:20260421T155439Z
URL:https://chamber.fremontne.org/events/details/a-capella-honor-choir-midland-arts-14663
END:VEVENT

END:VCALENDAR
