BEGIN:VCALENDAR
VERSION:2.0
PRODID:-//ChamberMaster//Event Calendar 2.0//EN
METHOD:PUBLISH
X-PUBLISHED-TTL:P3D
REFRESH-INTERVAL:P3D
CALSCALE:GREGORIAN
BEGIN:VEVENT
DTSTART:20200228T000000Z
DTEND:20200228T010000Z
X-MICROSOFT-CDO-ALLDAYEVENT:FALSE
SUMMARY:AAA Travel Event on River Cruising
DESCRIPTION:Come discover river cruising as it was meant to be.  Offering award-winning first class amenities AMAWaterways strives to go the extra mile to ensure that you enjoy your time on board and ashore to the fullest.  With itineraries featuring breathtaking ports of call across Europe\, Asia and Africa\, an AMAWatersways River Cruise is truly unique.  And with the exclusive benefits\, personalized service and exceptional value you will receive traveling with AAA\, it will be a vacation like no other.
X-ALT-DESC;FMTTYPE=text/html:Come discover river cruising as it was meant to be.&nbsp\; Offering award-winning first class amenities AMAWaterways strives to go the extra mile to ensure that you enjoy your time on board and ashore to the fullest.&nbsp\; With itineraries featuring breathtaking ports of call across Europe\, Asia and Africa\, an AMAWatersways River Cruise is truly unique.&nbsp\; And with the exclusive benefits\, personalized service and exceptional value you will receive traveling with AAA\, it will be a vacation like no other.<br />\n&nbsp\;
LOCATION:The Event will be held at the AAA Clocktower office: 815 N 98th Street Omaha NE 68114 402-390-1000
UID:e.881.14771
SEQUENCE:3
DTSTAMP:20260421T105614Z
URL:https://chamber.fremontne.org/events/details/aaa-travel-event-on-river-cruising-14771
END:VEVENT

END:VCALENDAR
