BEGIN:VCALENDAR
VERSION:2.0
PRODID:-//ChamberMaster//Event Calendar 2.0//EN
METHOD:PUBLISH
X-PUBLISHED-TTL:P3D
REFRESH-INTERVAL:P3D
CALSCALE:GREGORIAN
BEGIN:VEVENT
DTSTART:20240910T130000Z
DTEND:20240910T140000Z
X-MICROSOFT-CDO-ALLDAYEVENT:FALSE
SUMMARY:AG council
DESCRIPTION:
X-ALT-DESC;FMTTYPE=text/html:
LOCATION:
UID:e.881.15950
SEQUENCE:3
DTSTAMP:20260423T165832Z
URL:https://chamber.fremontne.org/events/details/ag-council-09-10-2024-15950
END:VEVENT

END:VCALENDAR
