BEGIN:VCALENDAR
VERSION:2.0
PRODID:-//ChamberMaster//Event Calendar 2.0//EN
METHOD:PUBLISH
X-PUBLISHED-TTL:P3D
REFRESH-INTERVAL:P3D
CALSCALE:GREGORIAN
BEGIN:VEVENT
DTSTART:20180508T130000Z
DTEND:20180508T140000Z
X-MICROSOFT-CDO-ALLDAYEVENT:FALSE
SUMMARY:Agricultural Business & Natural Resources Council
DESCRIPTION:
X-ALT-DESC;FMTTYPE=text/html:
LOCATION:Bernie Paden Conference Room Fremont Area Chamber of Commerce 128 East Sixth Street
UID:e.881.2777
SEQUENCE:3
DTSTAMP:20260422T154313Z
URL:https://chamber.fremontne.org/events/details/agricultural-business-natural-resources-council-05-08-2018-2777
END:VEVENT

END:VCALENDAR
