BEGIN:VCALENDAR
VERSION:2.0
PRODID:-//ChamberMaster//Event Calendar 2.0//EN
METHOD:PUBLISH
X-PUBLISHED-TTL:P3D
REFRESH-INTERVAL:P3D
CALSCALE:GREGORIAN
BEGIN:VEVENT
DTSTART:20180910T213000Z
DTEND:20180910T230000Z
X-MICROSOFT-CDO-ALLDAYEVENT:FALSE
SUMMARY:All Ages Upcycling
DESCRIPTION:Stop by the Keene Memorial Library to work on two different upcycling projects. We will be making no-sew T-shirt bags\, we have T-shirts\, but feel free to bring one or a few if you wish. We will also be upcycling DVD cases into a mini art case. We will have some fabric and scrapbook paper for this project\, but feel free to bring some if you want.
X-ALT-DESC;FMTTYPE=text/html:Stop by the Keene Memorial Library to work on two different upcycling projects. We will be making no-sew T-shirt bags\, we have T-shirts\, but feel free to bring one or a few if you wish. We will also be upcycling DVD cases into a mini art case. We will have some fabric and scrapbook paper for this project\, but feel free to bring some if you want.
LOCATION:Keene Memorial Library
UID:e.881.14186
SEQUENCE:3
DTSTAMP:20260422T103002Z
URL:https://chamber.fremontne.org/events/details/all-ages-upcycling-14186
END:VEVENT

END:VCALENDAR
