BEGIN:VCALENDAR
VERSION:2.0
PRODID:-//ChamberMaster//Event Calendar 2.0//EN
METHOD:PUBLISH
X-PUBLISHED-TTL:P3D
REFRESH-INTERVAL:P3D
CALSCALE:GREGORIAN
BEGIN:VEVENT
DTSTART:20181025T230000Z
DTEND:20181026T003000Z
X-MICROSOFT-CDO-ALLDAYEVENT:FALSE
SUMMARY:All Halls-O-Ween Trunk-OR- Treat at Midland University
DESCRIPTION:Trick or Treat Through Midland University Residence halls!
X-ALT-DESC;FMTTYPE=text/html:Trick or Treat Through Midland University Residence halls!
LOCATION:
UID:e.881.14270
SEQUENCE:3
DTSTAMP:20260422T074755Z
URL:https://chamber.fremontne.org/events/details/all-halls-o-ween-trunk-or-treat-at-midland-university-14270
END:VEVENT

END:VCALENDAR
