BEGIN:VCALENDAR
VERSION:2.0
PRODID:-//ChamberMaster//Event Calendar 2.0//EN
METHOD:PUBLISH
X-PUBLISHED-TTL:P3D
REFRESH-INTERVAL:P3D
CALSCALE:GREGORIAN
BEGIN:VEVENT
DTSTART:20180916T160000Z
DTEND:20180917T000000Z
X-MICROSOFT-CDO-ALLDAYEVENT:FALSE
SUMMARY:Annual BBQ and Fall Family Fun Day
DESCRIPTION:This is Camp Fontanelle's largest event of the season. It is a time to get meet up with friends and family and celebrate a successful summer out at Camp Fontanelle. Tour the campgrounds\, eat a good meal and learn about the ministry at Camp Fontanelle and all that is happening throughout the year.\n\n\n\nThere are plenty of activities to keep you busy throughout the day in the Riverview Lodge (main lodge) area. Get your face painted\, eat a hamburger or hotdog\, or maybe some pulled pork of grilled chicken\, bounce in a Bounce House. There will be informational videos playing about a successful summer camping season or learn about our Capital Campaign to build a new retreat center.\n\n\n\nThe day will start with a worship service under the Big White Tent at 11:00 a.m. At noon\, the food stations at Riverview Lodge and the Grilling Station at the gazebo will be open for serving. The Lodge will be serving pulled pork or grilled chicken with sides and a drink. The Grilling Station will have grilled hot dogs and hamburgers with chips and a drink. This year we are pleased to have the Bishop of the Great Plains United Methodist Annual Conference\, the Rev. Ruben Saenz\, Jr.\, giving the message during the service.\n\n\n\nStick around for the Silent and Live Quilt Auction\, beginning at 12:30 and 2:00 respectively\, or head up to the top of the property and enjoy the Pumpkin Patch and corn maze. It opens at 1:00 p.m.\n\n\n\nAnd while you can participate in many activities at no cost\, it is a fundraiser for the camp and donations are greatly appreciated to help further its mission of being an intentional Christian community\, providing wholesome and fun activities for families and individuals throughout the year. This is the largest fundraiser for the camp and we are grateful for our dedicated supporters.
X-ALT-DESC;FMTTYPE=text/html:<span style="color:#333333"><span style="font-family:arial\,sans-serif"><span style="font-size:10.0pt">This is Camp Fontanelle&#39\;s largest event of the season. It is a time to get meet up with friends and family and celebrate a successful summer out at Camp Fontanelle. Tour the campgrounds\, eat a good meal and learn about the ministry at Camp Fontanelle and all that is happening throughout the year.</span></span></span><br />\n<br />\n<span style="color:#333333"><span style="font-family:arial\,sans-serif"><span style="font-size:10.0pt">There are plenty of activities to keep you busy throughout the day in the Riverview Lodge (main lodge) area. Get your face painted\, eat a hamburger or hotdog\, or maybe some pulled pork of grilled chicken\, bounce in a Bounce House. There will be informational videos playing about a successful summer camping season or learn about our Capital Campaign to build a new retreat center.<br />\n<br />\nThe day will start with a worship service under the Big White Tent at 11:00 a.m. At noon\, the food stations at Riverview Lodge and the Grilling Station at the gazebo will be open for serving. The Lodge will be serving pulled pork or grilled chicken with sides and a drink. The Grilling Station will have grilled hot dogs and hamburgers with chips and a drink. This year we are pleased to have the Bishop of the Great Plains United Methodist Annual Conference\, the Rev. Ruben Saenz\, Jr.\, giving the message during the service.<br />\n<br />\nStick around for the Silent and Live Quilt Auction\, beginning at 12:30 and 2:00 respectively\, or head up to the top of the property and enjoy the Pumpkin Patch and corn maze. It opens at 1:00 p.m.<br />\n<br />\nAnd while you can participate in many activities at no cost\, it is a fundraiser for the camp and donations are greatly appreciated to help further its mission of being an intentional Christian community\, providing wholesome and fun activities for families and individuals throughout the year. This is the largest fundraiser for the camp and we are grateful for our dedicated supporters.</span></span></span>
LOCATION:9677 County Road 3\, Fontanelle\, NE. Camp Fontanelle is located in Washington County\, 2 miles south of the community of Fontanelle off of Highway 91. Head south on 8th Street in Fontanelle (which turns into County Road 3) and follow the road until you see the Camp Fontanelle sign on the west side of County Road 3. It's a short 15 minute drive from Fremont.
UID:e.881.14240
SEQUENCE:3
DTSTAMP:20260422T100946Z
URL:https://chamber.fremontne.org/events/details/annual-bbq-and-fall-family-fun-day-14240
END:VEVENT

END:VCALENDAR
