BEGIN:VCALENDAR
VERSION:2.0
PRODID:-//ChamberMaster//Event Calendar 2.0//EN
METHOD:PUBLISH
X-PUBLISHED-TTL:P3D
REFRESH-INTERVAL:P3D
CALSCALE:GREGORIAN
BEGIN:VEVENT
DTSTART;VALUE=DATE:20190223
DTEND;VALUE=DATE:20190224
TRANSP:TRANSPARENT
X-MICROSOFT-CDO-ALLDAYEVENT:TRUE
SUMMARY:Benefit Concert
DESCRIPTION:Benefit Concert At MiLady CoffeeHouse - Local Artist
X-ALT-DESC;FMTTYPE=text/html:Benefit Concert At MiLady CoffeeHouse - Local Artist
LOCATION:MiLady Coffeehouse Downtown Fremont
UID:e.881.14348
SEQUENCE:3
DTSTAMP:20260422T021127Z
URL:https://chamber.fremontne.org/events/details/benefit-concert-14348
END:VEVENT

END:VCALENDAR
