BEGIN:VCALENDAR
VERSION:2.0
PRODID:-//ChamberMaster//Event Calendar 2.0//EN
METHOD:PUBLISH
X-PUBLISHED-TTL:P3D
REFRESH-INTERVAL:P3D
CALSCALE:GREGORIAN
BEGIN:VEVENT
DTSTART:20190301T150000Z
DTEND:20190301T160000Z
X-MICROSOFT-CDO-ALLDAYEVENT:FALSE
SUMMARY:Boat Show Coffee
DESCRIPTION:
X-ALT-DESC;FMTTYPE=text/html:
LOCATION:Christensen Field 1710 W 16th
UID:e.881.14255
SEQUENCE:3
DTSTAMP:20260422T004507Z
URL:https://chamber.fremontne.org/events/details/boat-show-coffee-14255
END:VEVENT

END:VCALENDAR
