BEGIN:VCALENDAR
VERSION:2.0
PRODID:-//ChamberMaster//Event Calendar 2.0//EN
METHOD:PUBLISH
X-PUBLISHED-TTL:P3D
REFRESH-INTERVAL:P3D
CALSCALE:GREGORIAN
BEGIN:VEVENT
DTSTART;VALUE=DATE:20180521
DTEND;VALUE=DATE:20180522
TRANSP:TRANSPARENT
X-MICROSOFT-CDO-ALLDAYEVENT:TRUE
SUMMARY:Booster Golf Silent Auction: Items Open to the Public
DESCRIPTION:Midland University will be hosting a Silent Auction in addition to our Booster Golf Tournament this year.  The tournament is full\, but in order to still support the Midland Booster club\, you can go to www.midlandu.edu/bg to bid on some great items.  Thank you to all of our sponsors!
X-ALT-DESC;FMTTYPE=text/html:Midland University will be hosting a Silent Auction in addition to our Booster Golf Tournament this year.&nbsp\; The tournament is full\, but in order to still support the Midland Booster club\, you can go to www.midlandu.edu/bg to bid on some great items.&nbsp\; Thank you to all of our sponsors!
LOCATION:Online at www.midlandu.edu/bg
UID:e.881.14141
SEQUENCE:3
DTSTAMP:20260422T141508Z
URL:https://chamber.fremontne.org/events/details/booster-golf-silent-auction-items-open-to-the-public-14141
END:VEVENT

END:VCALENDAR
