BEGIN:VCALENDAR
VERSION:2.0
PRODID:-//ChamberMaster//Event Calendar 2.0//EN
METHOD:PUBLISH
X-PUBLISHED-TTL:P3D
REFRESH-INTERVAL:P3D
CALSCALE:GREGORIAN
BEGIN:VEVENT
DTSTART:20190305T220000Z
DTEND:20190306T000000Z
X-MICROSOFT-CDO-ALLDAYEVENT:FALSE
SUMMARY:Business After Hours-Great Plains Communication
DESCRIPTION:Great Plains Communications\n\nBusiness After Hours
X-ALT-DESC;FMTTYPE=text/html:Great Plains Communications<br />\nBusiness After Hours
LOCATION:LA Fireproof Door Company-Shooters Saloon 325 N Main Street
UID:e.881.14341
SEQUENCE:3
DTSTAMP:20260422T011326Z
URL:https://chamber.fremontne.org/events/details/business-after-hours-great-plains-communication-14341
END:VEVENT

END:VCALENDAR
