BEGIN:VCALENDAR
VERSION:2.0
PRODID:-//ChamberMaster//Event Calendar 2.0//EN
METHOD:PUBLISH
X-PUBLISHED-TTL:P3D
REFRESH-INTERVAL:P3D
CALSCALE:GREGORIAN
BEGIN:VEVENT
DTSTART:20190507T210000Z
DTEND:20190507T230000Z
X-MICROSOFT-CDO-ALLDAYEVENT:FALSE
SUMMARY:Business After Hours NP Dodge
DESCRIPTION:Come enjoy Business After Hours at NP Dodge! An amazing TACO BAR\, margarita's\, and other cold beverages will be the theme of the evening. This is a great way to network with other Chamber members and enjoy an evening as summer is just around the corner! Thanks to NP Dodge for hosting.\n \n\n***Bring a donation for the Salvation Army for a chance to win a prize. (we are working on finding out what items specifically they are in need of)***
X-ALT-DESC;FMTTYPE=text/html:Come enjoy Business After Hours at NP Dodge! An amazing TACO BAR\, margarita&#39\;s\, and other cold beverages will be the theme of the evening. This is a great way to network with other Chamber members and enjoy an evening as summer is just around the corner! Thanks to NP Dodge for hosting.\n<p style="line-height:150%"><span style="font-family:&quot\;Calibri&quot\;\,sans-serif\;\ncolor:black"><o:p>&nbsp\;</o:p></span></p>\n\n<p style="line-height:150%"><u><strong><span style="font-family:&quot\;Calibri&quot\;\,sans-serif\;\ncolor:black">***Bring a&nbsp\;donation for the&nbsp\;Salvation Army for a chance to win a prize. (we are&nbsp\;working on finding out what items specifically they are in need of)***</span></strong></u><span style="font-family:&quot\;Calibri&quot\;\,sans-serif\;\ncolor:black"><o:p></o:p></span></p>\n
LOCATION:NP Dodge 1037 East 23rd Street Fremont\, NE 68025 (402) 727-5008
UID:e.881.14504
SEQUENCE:3
DTSTAMP:20260421T234558Z
URL:https://chamber.fremontne.org/events/details/business-after-hours-np-dodge-14504
END:VEVENT

END:VCALENDAR
