BEGIN:VCALENDAR
VERSION:2.0
PRODID:-//ChamberMaster//Event Calendar 2.0//EN
METHOD:PUBLISH
X-PUBLISHED-TTL:P3D
REFRESH-INTERVAL:P3D
CALSCALE:GREGORIAN
BEGIN:VEVENT
DTSTART:20190520T163000Z
DTEND:20190520T163000Z
X-MICROSOFT-CDO-ALLDAYEVENT:FALSE
SUMMARY:Chamber BOD Meeting
DESCRIPTION:Chamber BOD Meeting
X-ALT-DESC;FMTTYPE=text/html:Chamber BOD Meeting
LOCATION:Midland University PDR's 9th & Logan Street
UID:e.881.3953
SEQUENCE:3
DTSTAMP:20260421T223409Z
URL:https://chamber.fremontne.org/events/details/chamber-bod-meeting-05-20-2019-3953
END:VEVENT

END:VCALENDAR
