BEGIN:VCALENDAR
VERSION:2.0
PRODID:-//ChamberMaster//Event Calendar 2.0//EN
METHOD:PUBLISH
X-PUBLISHED-TTL:P3D
REFRESH-INTERVAL:P3D
CALSCALE:GREGORIAN
BEGIN:VEVENT
DTSTART:20191021T163000Z
DTEND:20191021T163000Z
X-MICROSOFT-CDO-ALLDAYEVENT:FALSE
SUMMARY:Chamber BOD Meeting
DESCRIPTION:Chamber BOD Meeting
X-ALT-DESC;FMTTYPE=text/html:Chamber BOD Meeting
LOCATION:Midland University PDR's 9th & Logan Street
UID:e.881.3958
SEQUENCE:3
DTSTAMP:20260421T161432Z
URL:https://chamber.fremontne.org/events/details/chamber-bod-meeting-10-21-2019-3958
END:VEVENT

END:VCALENDAR
