BEGIN:VCALENDAR
VERSION:2.0
PRODID:-//ChamberMaster//Event Calendar 2.0//EN
METHOD:PUBLISH
X-PUBLISHED-TTL:P3D
REFRESH-INTERVAL:P3D
CALSCALE:GREGORIAN
BEGIN:VEVENT
DTSTART:20190329T140000Z
DTEND:20190329T150000Z
X-MICROSOFT-CDO-ALLDAYEVENT:FALSE
SUMMARY:Chamber Coffee - Berkshire Hathaway Home Services - Wes Ewasiuk
DESCRIPTION:
X-ALT-DESC;FMTTYPE=text/html:
LOCATION:Dodge County Gun Emporium and Antiquities 240 West 5th Street Fremont NE 68025
UID:e.881.14350
SEQUENCE:3
DTSTAMP:20260422T005458Z
URL:https://chamber.fremontne.org/events/details/chamber-coffee-berkshire-hathaway-home-services-wes-ewasiuk-14350
END:VEVENT

END:VCALENDAR
