BEGIN:VCALENDAR
VERSION:2.0
PRODID:-//ChamberMaster//Event Calendar 2.0//EN
METHOD:PUBLISH
X-PUBLISHED-TTL:P3D
REFRESH-INTERVAL:P3D
CALSCALE:GREGORIAN
BEGIN:VEVENT
DTSTART:20190314T140000Z
DTEND:20190315T030000Z
X-MICROSOFT-CDO-ALLDAYEVENT:FALSE
SUMMARY:Chamber Coffee - Butler Ag Equipment
DESCRIPTION:Come celebrate National Ag Day!
X-ALT-DESC;FMTTYPE=text/html:Come celebrate National Ag Day!
LOCATION:Butler Ag Equipment 2831 N County Road 20th Ave Fremont\, NE 68025
UID:e.881.14349
SEQUENCE:3
DTSTAMP:20260422T021359Z
URL:https://chamber.fremontne.org/events/details/chamber-coffee-butler-ag-equipment-14349
END:VEVENT

END:VCALENDAR
