BEGIN:VCALENDAR
VERSION:2.0
PRODID:-//ChamberMaster//Event Calendar 2.0//EN
METHOD:PUBLISH
X-PUBLISHED-TTL:P3D
REFRESH-INTERVAL:P3D
CALSCALE:GREGORIAN
BEGIN:VEVENT
DTSTART:20190215T150000Z
DTEND:20190215T160000Z
X-MICROSOFT-CDO-ALLDAYEVENT:FALSE
SUMMARY:Chamber Coffee - Nebraska Extension
DESCRIPTION:Join Nebraska Extension to celbrate the University of Nebraska's 150 year legacy!
X-ALT-DESC;FMTTYPE=text/html:Join Nebraska Extension to celbrate the University of Nebraska&#39\;s 150 year legacy!&nbsp\;&nbsp\;&nbsp\;&nbsp\;&nbsp\;&nbsp\;&nbsp\;&nbsp\;
LOCATION:Dodge County Extension Office 1206 West 23rd Street Fremont\, NE 68025
UID:e.881.14339
SEQUENCE:3
DTSTAMP:20260422T021203Z
URL:https://chamber.fremontne.org/events/details/chamber-coffee-nebraska-extension-14339
END:VEVENT

END:VCALENDAR
