BEGIN:VCALENDAR
VERSION:2.0
PRODID:-//ChamberMaster//Event Calendar 2.0//EN
METHOD:PUBLISH
X-PUBLISHED-TTL:P3D
REFRESH-INTERVAL:P3D
CALSCALE:GREGORIAN
BEGIN:VEVENT
DTSTART:20180716T154500Z
DTEND:20180716T163000Z
X-MICROSOFT-CDO-ALLDAYEVENT:FALSE
SUMMARY:Chamber Exec Board
DESCRIPTION:
X-ALT-DESC;FMTTYPE=text/html:
LOCATION:
UID:e.881.6640
SEQUENCE:3
DTSTAMP:20260422T113030Z
URL:https://chamber.fremontne.org/events/details/chamber-exec-board-07-13-2018-6640
END:VEVENT

END:VCALENDAR
