BEGIN:VCALENDAR
VERSION:2.0
PRODID:-//ChamberMaster//Event Calendar 2.0//EN
METHOD:PUBLISH
X-PUBLISHED-TTL:P3D
REFRESH-INTERVAL:P3D
CALSCALE:GREGORIAN
BEGIN:VEVENT
DTSTART:20200201T230000Z
DTEND:20200202T013000Z
X-MICROSOFT-CDO-ALLDAYEVENT:FALSE
SUMMARY:Chili Feed/Cookoff
DESCRIPTION:February 1st\, 2020 - 5pm to 7:30pm Enter your best chili to win cash prizes\, only $20 to enter. There are three categories: Red (no beans)\, Homestyle or Open-class.  Please bring your chili no later than 4:30pm. Or\, just come and eat $7 for adults\, $5 for kids. Children 5 and under eat free. Also serving cinnamon rolls! All proceeds go to the Saunders County Food Bank. If you bring 2 canned goods to donate\, we'll take $2 off your admission fee!
X-ALT-DESC;FMTTYPE=text/html:February 1st\, 2020 - 5pm to 7:30pm Enter your best chili to win cash prizes\, only $20 to enter. There are three categories: Red (no beans)\, Homestyle or Open-class.&nbsp\; Please bring your chili no later than 4:30pm. Or\, just come and eat $7 for adults\, $5 for kids. Children 5 and under eat free. Also serving cinnamon rolls! All proceeds go to the Saunders County Food Bank. If you bring 2 canned goods to donate\, we&#39\;ll take $2 off your admission fee!
LOCATION:Wahoo Vets Club: 112 E 7th St\, Wahoo\, NE 68066
UID:e.881.14734
SEQUENCE:3
DTSTAMP:20260421T114935Z
URL:https://chamber.fremontne.org/events/details/chili-feed-cookoff-14734
END:VEVENT

END:VCALENDAR
