BEGIN:VCALENDAR
VERSION:2.0
PRODID:-//ChamberMaster//Event Calendar 2.0//EN
METHOD:PUBLISH
X-PUBLISHED-TTL:P3D
REFRESH-INTERVAL:P3D
CALSCALE:GREGORIAN
BEGIN:VEVENT
DTSTART:20250107T150000Z
DTEND:20250107T160000Z
X-MICROSOFT-CDO-ALLDAYEVENT:FALSE
SUMMARY:City of Fremont Council Chambers Ribbon Cutting
DESCRIPTION:Ribbon Cutting: City of Fremont's Council Chambers  \n\n  Date: Tuesday\, January 7th\, 2025\n\n  Time: 9:00 - 10:00 AM\n\n  Location: 400 E Military Ave\, 2nd Floor\n\nJoin us as we celebrate the official Ribbon Cutting for the City of Fremont's newly renovated Council Chambers!     This exciting milestone marks a new chapter for our city's leadership and community engagement.\n\nCome and see the beautiful space where important decisions for Fremont's future will be made. \n\nSee you there!
X-ALT-DESC;FMTTYPE=text/html:<p style="text-align: center\;"><span style="font-size:24px\;"><span style="font-family:verdana\;">&#9986\;&#65039\; <strong>Ribbon Cutting: City of Fremont&#39\;s Council Chambers</strong> &#127881\;</span></span></p>\n\n<p style="text-align: center\;"><span style="font-size:18px\;"><span style="font-family:verdana\;">&#128197\; <strong>Date:</strong> Tuesday\, January 7th\, 2025<br />\n&#9200\; <strong>Time:</strong> 9:00 - 10:00 AM<br />\n&#128205\; <strong>Location:</strong> 400 E Military Ave\, 2nd Floor</span></span></p>\n\n<p style="text-align: center\;"><span style="font-size:18px\;"><span style="font-family:verdana\;">Join us as we celebrate the official <strong>Ribbon Cutting for the City of Fremont&#39\;s newly renovated Council Chambers</strong>! &#127963\;&#65039\;&#10024\; This exciting milestone marks a new chapter for our city&#39\;s leadership and community engagement.</span></span></p>\n\n<p style="text-align: center\;"><span style="font-size:18px\;"><span style="font-family:verdana\;">Come and see the beautiful space where important decisions for Fremont&#39\;s future will be made.&nbsp\;<br />\nSee you there!</span></span></p>\n
LOCATION:
UID:e.881.16410
SEQUENCE:3
DTSTAMP:20260421T012218Z
URL:https://chamber.fremontne.org/events/details/city-of-fremont-council-chambers-ribbon-cutting-16410
END:VEVENT

END:VCALENDAR
