BEGIN:VCALENDAR
VERSION:2.0
PRODID:-//ChamberMaster//Event Calendar 2.0//EN
METHOD:PUBLISH
X-PUBLISHED-TTL:P3D
REFRESH-INTERVAL:P3D
CALSCALE:GREGORIAN
BEGIN:VEVENT
DTSTART:20180920T220000Z
DTEND:20180920T233000Z
X-MICROSOFT-CDO-ALLDAYEVENT:FALSE
SUMMARY:Community Night at The Hope-Fremont
DESCRIPTION:Join The Hope-Fremont for free dinner\, inflatables\, games\, music & more! Come meet the staff & learn how to sign up your 5th-12th grade youth for after-school programming. Open to Fremont families with youth.
X-ALT-DESC;FMTTYPE=text/html:Join The Hope-Fremont for free dinner\, inflatables\, games\, music &amp\; more! Come meet the staff &amp\; learn how to sign up your 5th-12th grade youth for after-school programming. Open to Fremont families with youth.
LOCATION:The Hope Center for Kids\, 555 W 23rd St\, Fremont NE
UID:e.881.14252
SEQUENCE:3
DTSTAMP:20260422T085347Z
URL:https://chamber.fremontne.org/events/details/community-night-at-the-hope-fremont-14252
END:VEVENT

END:VCALENDAR
