BEGIN:VCALENDAR
VERSION:2.0
PRODID:-//ChamberMaster//Event Calendar 2.0//EN
METHOD:PUBLISH
X-PUBLISHED-TTL:P3D
REFRESH-INTERVAL:P3D
CALSCALE:GREGORIAN
BEGIN:VEVENT
DTSTART:20231027T140000Z
DTEND:20231027T150000Z
X-MICROSOFT-CDO-ALLDAYEVENT:FALSE
SUMMARY:Covered Waters Ribbon Cutting
DESCRIPTION:Ribbon Cutting with Covered Waters  \n\n\n\n\n\n   Date: October 27th\n\n  Time: 9:00 AM - 10:00 AM\n\n Location: Fremont Alliance Church\n\n 1615 N Lincoln Ave\n\n\n\nJoin us for an inspiring morning as we celebrate the invaluable work of Covered Waters!  \n\n\n\n  About Covered Waters  :\n\nDedicated to helping at-risk young mothers successfully transition into adulthood\, Covered Waters is a beacon of hope and support. Their mission touches lives and makes a lasting impact.\n\n\n\nLet's come together to mark this important milestone and show our support for Covered Waters! \n\n\n\nDon't miss out on this special occasion! We look forward to seeing you there.
X-ALT-DESC;FMTTYPE=text/html:<div style="text-align: center\;"><span style="font-family:verdana\;"><span style="font-size:24px\;">&#127872\; Ribbon Cutting with Covered Waters &#127872\;</span><br />\n<br />\n<br />\n<span style="font-size:18px\;">&#128197\;&nbsp\; Date: October 27th<br />\n&#128338\; Time: 9:00 AM - 10:00 AM<br />\n&#128205\;Location: Fremont Alliance Church<br />\n&nbsp\;1615 N Lincoln Ave<br />\n<br />\nJoin us for an inspiring morning as we celebrate the invaluable work of Covered Waters! &#127775\;<br />\n<br />\n&#127800\;&nbsp\;About Covered Waters </span></span><span style="font-family: verdana\; font-size: 18px\; text-align: center\;">&#127800\;</span><span style="font-family:verdana\;"><span style="font-size:18px\;">:<br />\nDedicated to helping at-risk young mothers successfully transition into adulthood\, Covered Waters is a beacon of hope and support. Their mission touches lives and makes a lasting impact.<br />\n<br />\nLet&#39\;s come together to mark this important milestone and show our support for Covered Waters!&#127752\;<br />\n<br />\nDon&#39\;t miss out on this special occasion! We look forward to seeing you there.&nbsp\;&#127775\;</span></span><br />\n&nbsp\;</div>\n
LOCATION:
UID:e.881.15452
SEQUENCE:3
DTSTAMP:20260422T202700Z
URL:https://chamber.fremontne.org/events/details/covered-waters-ribbon-cutting-15452
END:VEVENT

END:VCALENDAR
