BEGIN:VCALENDAR
VERSION:2.0
PRODID:-//ChamberMaster//Event Calendar 2.0//EN
METHOD:PUBLISH
X-PUBLISHED-TTL:P3D
REFRESH-INTERVAL:P3D
CALSCALE:GREGORIAN
BEGIN:VEVENT
DTSTART;VALUE=DATE:20191212
DTEND;VALUE=DATE:20191216
TRANSP:TRANSPARENT
X-MICROSOFT-CDO-ALLDAYEVENT:TRUE
SUMMARY:Deodorant Drive for Life House Shelter
DESCRIPTION:Please help Pathfinder Place provide deodorant to our friends in need at Life House Shelter. Life House staff have informed Pathfinder Place that this is on of their items of need.
X-ALT-DESC;FMTTYPE=text/html:Please help Pathfinder Place provide deodorant to our friends in need at Life House Shelter. Life House staff have informed Pathfinder Place that this is on of their items of need.
LOCATION:
UID:e.881.14727
SEQUENCE:3
DTSTAMP:20260421T135150Z
URL:https://chamber.fremontne.org/events/details/deodorant-drive-for-life-house-shelter-14727
END:VEVENT

END:VCALENDAR
