BEGIN:VCALENDAR
VERSION:2.0
PRODID:-//ChamberMaster//Event Calendar 2.0//EN
METHOD:PUBLISH
X-PUBLISHED-TTL:P3D
REFRESH-INTERVAL:P3D
CALSCALE:GREGORIAN
BEGIN:VEVENT
DTSTART:20241206T150000Z
DTEND:20241206T160000Z
X-MICROSOFT-CDO-ALLDAYEVENT:FALSE
SUMMARY:Don Peterson Chamber Holiday Coffee
DESCRIPTION:Don Peterson's Holiday Chamber Coffee  \n\n  Date: Friday\, December 6th\, 2024\n\n  Time: 9:00 - 10:00 AM\n\n  Location: Don Peterson & Associates Downtown Office\, 100 E. 6th Street\, Fremont\, NE\n\nStart your day with some holiday cheer at Don Peterson's festive Chamber Coffee!    Join us for a warm morning of networking\, seasonal treats\, and joyful connections.\n\n  In the spirit of giving\, we'll be collecting donations of baby care items for the Salvation Army and potty training supplies for Dodge County Head Start. Your contributions will make a difference for families in our community!    \n\nWe can't wait to share this special morning with you come celebrate the season with us!
X-ALT-DESC;FMTTYPE=text/html:<p style="text-align: center\;"><span style="font-size:22px\;"><strong><span style="font-family:verdana\;">&#127876\; Don Peterson&#39\;s Holiday Chamber Coffee &#127876\;</span></strong></span></p>\n\n<p style="text-align: center\;"><span style="font-size:18px\;"><span style="font-family:verdana\;">&#128197\; Date: Friday\, December 6th\, 2024<br />\n&#9200\; Time: 9:00 - 10:00 AM<br />\n&#128205\; Location: Don Peterson &amp\; Associates Downtown Office\, 100 E. 6th Street\, Fremont\, NE</span></span></p>\n\n<p style="text-align: center\;"><span style="font-size:18px\;"><span style="font-family:verdana\;">Start your day with some holiday cheer at Don Peterson&#39\;s festive Chamber Coffee! &#9749\;&#10024\; Join us for a warm morning of networking\, seasonal treats\, and joyful connections.</span></span></p>\n\n<p style="text-align: center\;"><span style="font-size:18px\;"><span style="font-family:verdana\;">&#127873\; In the spirit of giving\, we&rsquo\;ll be collecting donations of baby care items for the Salvation Army and potty training supplies for Dodge County Head Start. Your contributions will make a difference for families in our community! &#128150\;&#127868\;&#127876\;</span></span></p>\n\n<p style="text-align: center\;"><span style="font-size:18px\;"><span style="font-family:verdana\;">We can&#39\;t wait to share this special morning with you&mdash\;come celebrate the season with us! &#127775\;</span></span></p>\n
LOCATION:
UID:e.881.16394
SEQUENCE:3
DTSTAMP:20260421T025357Z
URL:https://chamber.fremontne.org/events/details/don-peterson-chamber-holiday-coffee-16394
END:VEVENT

END:VCALENDAR
