BEGIN:VCALENDAR
VERSION:2.0
PRODID:-//ChamberMaster//Event Calendar 2.0//EN
METHOD:PUBLISH
X-PUBLISHED-TTL:P3D
REFRESH-INTERVAL:P3D
CALSCALE:GREGORIAN
BEGIN:VEVENT
DTSTART:20191203T123000Z
DTEND:20191203T180000Z
X-MICROSOFT-CDO-ALLDAYEVENT:FALSE
SUMMARY:Donuts for Donations
DESCRIPTION:Tuesday\, December 3\, is #givingtuesday! This event is part of the national online day of giving. On #givingtuesday\, the Fremont Family YMCA will be hosting Donuts for Donations featuring specialty donuts from Hurts Donuts. Join us for a cup of coffee and a donut from 6:30am-11am for a free will donation (minimum suggested donation of $5). Or\, go to our webpage or Facebook page to make your #givingtuesday donation online. Our goal is to raise $4\,000 to go toward the purchase of new equipment for our tennis\, gymnastics and youth sports programs.
X-ALT-DESC;FMTTYPE=text/html:Tuesday\, December 3\, is #givingtuesday! This event is part of the national online day of giving. On #givingtuesday\, the Fremont Family YMCA will be hosting Donuts for Donations featuring specialty donuts from Hurts Donuts. Join us for a cup of coffee and a donut from 6:30am-11am for a free will donation (minimum suggested donation of $5). Or\, go to our webpage or Facebook page to make your #givingtuesday donation online. Our goal is to raise $4\,000 to go toward the purchase of new equipment for our tennis\, gymnastics and youth sports programs.
LOCATION:Fremont Family YMCA
UID:e.881.14718
SEQUENCE:3
DTSTAMP:20260421T132848Z
URL:https://chamber.fremontne.org/events/details/donuts-for-donations-14718
END:VEVENT

END:VCALENDAR
