BEGIN:VCALENDAR
VERSION:2.0
PRODID:-//ChamberMaster//Event Calendar 2.0//EN
METHOD:PUBLISH
X-PUBLISHED-TTL:P3D
REFRESH-INTERVAL:P3D
CALSCALE:GREGORIAN
BEGIN:VEVENT
DTSTART:20250204T150000Z
DTEND:20250204T160000Z
X-MICROSOFT-CDO-ALLDAYEVENT:FALSE
SUMMARY:Essential Personnel Chamber Coffee
DESCRIPTION:Join us for Essential Personnel's Chamber Coffee!   \n\n \n\n  Date: Tuesday\, February 4th\, 2025\n\n  Time: 9:00 - 10:00 AM\n\n  Location: 413 N Main St.\, Fremont\, NE 68025\n\n \n\nWe're thrilled to invite you to Essential Personnel's Chamber Coffee! It's the perfect way to jumpstart your morning with a warm cup of coffee\, great company\, and meaningful connections. Don't miss this opportunity to network\, share ideas\, and engage with our amazing community.\n\n \n\nSee you there!
X-ALT-DESC;FMTTYPE=text/html:<p style="margin: 0px\; padding: 0px\; color: rgb(64\, 63\, 66)\; font-family: Arial\, Verdana\, Helvetica\, sans-serif\; font-size: 14px\; white-space-collapse: preserve\; text-align: center\;"><span century="" style="font-size: 26px\; font-weight: bold\; font-family: ">&#127775\;&nbsp\;Join us for Essential Personnel&#39\;s Chamber Coffee!&nbsp\;&#9749\;&#65039\;</span></p>\n\n<p style="margin: 0px\; padding: 0px\; color: rgb(64\, 63\, 66)\; font-family: Arial\, Verdana\, Helvetica\, sans-serif\; font-size: 14px\; white-space-collapse: preserve\; text-align: center\;">&nbsp\;</p>\n\n<p style="margin: 0px\; padding: 0px\; color: rgb(64\, 63\, 66)\; font-family: Arial\, Verdana\, Helvetica\, sans-serif\; font-size: 14px\; white-space-collapse: preserve\; text-align: center\;"><span century="" style="font-size: 20px\; font-family: ">&#128197\;<strong>&nbsp\;Date:</strong>&nbsp\;Tuesday\, February 4th\, 2025</span></p>\n\n<p style="margin: 0px\; padding: 0px\; color: rgb(64\, 63\, 66)\; font-family: Arial\, Verdana\, Helvetica\, sans-serif\; font-size: 14px\; white-space-collapse: preserve\; text-align: center\;"><span century="" style="font-size: 20px\; font-family: ">&#9200\;&nbsp\;<strong>Time:&nbsp\;</strong>9:00 - 10:00 AM</span></p>\n\n<p style="margin: 0px\; padding: 0px\; color: rgb(64\, 63\, 66)\; font-family: Arial\, Verdana\, Helvetica\, sans-serif\; font-size: 14px\; white-space-collapse: preserve\; text-align: center\;"><span century="" style="font-size: 20px\; font-family: ">&#128205\;&nbsp\;<strong>Location:</strong> 413 N Main St.\, Fremont\, NE 68025</span></p>\n\n<p style="margin: 0px\; padding: 0px\; color: rgb(64\, 63\, 66)\; font-family: Arial\, Verdana\, Helvetica\, sans-serif\; font-size: 14px\; white-space-collapse: preserve\; text-align: center\;">&nbsp\;</p>\n\n<p style="margin: 0px\; padding: 0px\; color: rgb(64\, 63\, 66)\; font-family: Arial\, Verdana\, Helvetica\, sans-serif\; font-size: 14px\; white-space-collapse: preserve\; text-align: center\;"><span century="" style="font-size: 20px\; font-family: ">We&rsquo\;re thrilled to invite you to Essential Personnel&#39\;s Chamber Coffee! It&rsquo\;s the perfect way to jumpstart your morning with a warm cup of coffee\, great company\, and meaningful connections. Don&rsquo\;t miss this opportunity to network\, share ideas\, and engage with our amazing community.</span></p>\n\n<p style="margin: 0px\; padding: 0px\; color: rgb(64\, 63\, 66)\; font-family: Arial\, Verdana\, Helvetica\, sans-serif\; font-size: 14px\; white-space-collapse: preserve\; text-align: center\;">&nbsp\;</p>\n\n<p style="margin: 0px\; padding: 0px\; color: rgb(64\, 63\, 66)\; font-family: Arial\, Verdana\, Helvetica\, sans-serif\; font-size: 14px\; white-space-collapse: preserve\; text-align: center\;"><span century="" style="font-size: 20px\; font-family: ">See you there! &#127775\;</span></p>\n
LOCATION:
UID:e.881.16411
SEQUENCE:3
DTSTAMP:20260421T012319Z
URL:https://chamber.fremontne.org/events/details/essential-personnel-chamber-coffee-16411
END:VEVENT

END:VCALENDAR
