BEGIN:VCALENDAR
VERSION:2.0
PRODID:-//ChamberMaster//Event Calendar 2.0//EN
METHOD:PUBLISH
X-PUBLISHED-TTL:P3D
REFRESH-INTERVAL:P3D
CALSCALE:GREGORIAN
BEGIN:VEVENT
DTSTART:20180626T230000Z
DTEND:20180627T003000Z
X-MICROSOFT-CDO-ALLDAYEVENT:FALSE
SUMMARY:Explore Africa
DESCRIPTION:AAA Travel invites you to Explore Africa!\n\nExperience a world where nature reigns supreme - Africa.  It is a continent of magnificent natural splendor\, astounding wildlife\, alluring beaches\, charming native towns\, ancient archaeological sites and geological wonders.  Come and experience sights like no other destination on Earth.  And with exclusive benefits\, exceptional savings and personalized service.  AAATravel can turn a vacation into a journey of a lifetime. Everyone is welcome! \n\n \n\nSpace is limited.  RSVP online at AAA.com/Events or call 402-951-2411
X-ALT-DESC;FMTTYPE=text/html:<div style="text-align: center\;">&nbsp\;<span style="color:rgb(255\, 0\, 0)"><strong>AAA Travel invites you to Explore Africa!</strong></span></div>\n\n<div><strong>Experience a world where nature reigns supreme - Africa.&nbsp\; It is a continent of magnificent natural splendor\, astounding wildlife\, alluring beaches\, charming native towns\, ancient archaeological sites and geological wonders.&nbsp\; Come and experience sights like no other destination on Earth.&nbsp\; And with exclusive benefits\, exceptional savings and personalized service.&nbsp\; AAATravel can turn a vacation into a journey of a lifetime.&nbsp\;Everyone is welcome!&nbsp\;</strong><br />\n&nbsp\;</div>\n\n<div style="text-align: center\;"><strong><span style="color:rgb(255\, 0\, 0)">Space is limited.&nbsp\; RSVP online at AAA.com/Events or call 402-951-2411</span></strong></div>\n
LOCATION:AAA Clocktower 815 N 98th Street Omaha NE 68114
UID:e.881.14145
SEQUENCE:3
DTSTAMP:20260422T125339Z
URL:https://chamber.fremontne.org/events/details/explore-africa-14145
END:VEVENT

END:VCALENDAR
