BEGIN:VCALENDAR
VERSION:2.0
PRODID:-//ChamberMaster//Event Calendar 2.0//EN
METHOD:PUBLISH
X-PUBLISHED-TTL:P3D
REFRESH-INTERVAL:P3D
CALSCALE:GREGORIAN
BEGIN:VEVENT
DTSTART:20241017T153000Z
DTEND:20241017T180000Z
X-MICROSOFT-CDO-ALLDAYEVENT:FALSE
SUMMARY:Explore Fremont's Nonprofits
DESCRIPTION:Explore Fremont's Nonprofits\n\n\n\n   Thursday\, October 17th |\n\n  10:30am - 1pm |\n\n  Fremont City Auditorium | 925 N. Broad Street\, Fremont\n\n  Join Leadership Fremont for an exciting opportunity to make a difference! Whether you're new to volunteering or looking for fresh ways to give back\, this event is perfect for you. Fremont's non-profits need YOUR help to continue their incredible work.\n\n  Discover local organizations making an impact\, connect with them\, and learn about the various ways you can contribute. Fremont is home to numerous hidden gems\, and this event gives you the chance to explore them all in one place.\n\n  Get involved\, give back\, and make a difference!
X-ALT-DESC;FMTTYPE=text/html:<p style="text-align: center\;"><span style="font-size:22px\;"><span style="font-family:verdana\;"><span style="font-size:28px\;"><strong>Explore Fremont&#39\;s Nonprofits</strong></span><br />\n<br />\n&#128467\;&#65039\; <strong>Thursday\, October 17th</strong> |<br />\n&#9200\; <strong>10:30am - 1pm |</strong><br />\n&#128205\; <strong>Fremont City Auditorium</strong> | 925 N. Broad Street\, Fremont</span></span></p>\n\n<p style="text-align: center\;"><span style="font-size:22px\;"><span style="font-family:verdana\;">&#127775\; <strong>Join Leadership Fremont</strong> for an exciting opportunity to make a difference! Whether you&#39\;re new to volunteering or looking for fresh ways to give back\, this event is perfect for you. Fremont&#39\;s non-profits need YOUR help to continue their incredible work.</span></span></p>\n\n<p style="text-align: center\;"><span style="font-size:22px\;"><span style="font-family:verdana\;">&#128161\; Discover local organizations making an impact\, connect with them\, and learn about the various ways you can contribute. Fremont is home to numerous hidden gems\, and this event gives you the chance to explore them all in one place.</span></span></p>\n\n<p style="text-align: center\;"><span style="font-size:22px\;"><span style="font-family:verdana\;">&#129309\; <strong>Get involved\, give back\, and make a difference!</strong></span></span></p>\n
LOCATION:Fremont City Auditorium
UID:e.881.16404
SEQUENCE:3
DTSTAMP:20260423T161249Z
URL:https://chamber.fremontne.org/events/details/explore-fremont-s-nonprofits-16404
END:VEVENT

END:VCALENDAR
