BEGIN:VCALENDAR
VERSION:2.0
PRODID:-//ChamberMaster//Event Calendar 2.0//EN
METHOD:PUBLISH
X-PUBLISHED-TTL:P3D
REFRESH-INTERVAL:P3D
CALSCALE:GREGORIAN
BEGIN:VEVENT
DTSTART:20250617T140000Z
DTEND:20250617T150000Z
X-MICROSOFT-CDO-ALLDAYEVENT:FALSE
SUMMARY:Fairfield Inn Chamber Coffee
DESCRIPTION:You're invited to Chamber Coffee at Fairfield Inn by Marriott!   \n\nJoin us for great networking and a full hot breakfast you won't want to miss!\n\n  Date: June 17th\n\n  Time: 9:00 AM   10:00 AM\n\n  Location: 2410 North Yager Road\, Fremont\, NE 68025\n\nCome connect with local professionals and start your morning right! Meet the friendly team at Fairfield Inn and learn more about what they offer to our community. Bring a friend and fuel your day with coffee\, conversation\, and connections!
X-ALT-DESC;FMTTYPE=text/html:<p data-end="151" data-start="0" style="text-align: center\;"><span style="font-size:20px\;"><span style="font-family:verdana\;">You&#39\;re invited to Chamber Coffee at Fairfield Inn by Marriott! &#9749\;&#10024\;<br data-end="68" data-start="65" />\nJoin us for great networking and a <strong data-end="125" data-is-only-node="" data-start="103">full hot breakfast</strong> you won&rsquo\;t want to miss!</span></span></p>\n\n<p data-end="270" data-start="153" style="text-align: center\;"><span style="font-size:20px\;"><span style="font-family:verdana\;">&#128197\; <strong data-end="165" data-start="156">Date:</strong> June 17th<br data-end="178" data-start="175" />\n&#9200\; <strong data-end="189" data-start="180">Time:</strong> 9:00 AM &ndash\; 10:00 AM<br data-end="211" data-start="208" />\n&#128205\; <strong data-end="227" data-start="214">Location:</strong> 2410 North Yager Road\, Fremont\, NE 68025</span></span></p>\n\n<p data-end="511" data-is-last-node="" data-is-only-node="" data-start="272" style="text-align: center\;"><span style="font-size:20px\;"><span style="font-family:verdana\;">Come connect with local professionals and start your morning right! Meet the friendly team at Fairfield Inn and learn more about what they offer to our community. Bring a friend and fuel your day with coffee\, conversation\, and connections!</span></span></p>\n
LOCATION:
UID:e.881.16658
SEQUENCE:3
DTSTAMP:20260421T093629Z
URL:https://chamber.fremontne.org/events/details/fairfield-inn-chamber-coffee-16658
END:VEVENT

END:VCALENDAR
