BEGIN:VCALENDAR
VERSION:2.0
PRODID:-//ChamberMaster//Event Calendar 2.0//EN
METHOD:PUBLISH
X-PUBLISHED-TTL:P3D
REFRESH-INTERVAL:P3D
CALSCALE:GREGORIAN
BEGIN:VEVENT
DTSTART:20260505T140000Z
DTEND:20260505T150000Z
X-MICROSOFT-CDO-ALLDAYEVENT:FALSE
SUMMARY:Fairfield Inn & Suites Chamber Coffee
DESCRIPTION:Join us for Chamber Coffee!\n\nStart your morning with great coffee and even better connections at this month's networking event.\n\n  Tuesday\, May 5\, 2026\n\n  9:00   10:00 AM\n\n  Fairfield Inn & Suites Fremont\n\n2410 North Yager Road\, Fremont\, NE\n\nCome connect with fellow professionals and enjoy a relaxed\, welcoming atmosphere we'd love to see you there!
X-ALT-DESC;FMTTYPE=text/html:<p data-end="179" data-start="45" style="text-align: center\;"><span style="font-size:20px\;"><span style="font-family:verdana\;">&#9749\; <strong data-end="78" data-start="47">Join us for Chamber Coffee!</strong><br data-end="81" data-start="78" />\nStart your morning with great coffee and even better connections at this month&rsquo\;s networking event.</span></span></p>\n\n<p data-end="311" data-start="181" style="text-align: center\;"><span style="font-size:20px\;"><span style="font-family:verdana\;">&#128197\; <strong data-end="208" data-start="184">Tuesday\, May 5\, 2026</strong><br data-end="211" data-start="208" />\n&#9200\; <strong data-end="232" data-start="213">9:00 &ndash\; 10:00 AM</strong><br data-end="235" data-is-only-node="" data-start="232" />\n&#128205\; <strong data-end="272" data-start="238">Fairfield Inn &amp\; Suites Fremont</strong><br data-end="275" data-start="272" />\n2410 North Yager Road\, Fremont\, NE</span></span></p>\n\n<p data-end="459" data-is-last-node="" data-is-only-node="" data-start="313" style="text-align: center\;"><span style="font-size:20px\;"><span style="font-family:verdana\;">Come connect with fellow professionals and enjoy a relaxed\, welcoming atmosphere&mdash\;we&rsquo\;d love to see you there!</span></span></p>\n
LOCATION:
UID:e.881.16921
SEQUENCE:3
DTSTAMP:20260424T202253Z
URL:https://chamber.fremontne.org/events/details/fairfield-inn-suites-chamber-coffee-16921
END:VEVENT

END:VCALENDAR
