BEGIN:VCALENDAR
VERSION:2.0
PRODID:-//ChamberMaster//Event Calendar 2.0//EN
METHOD:PUBLISH
X-PUBLISHED-TTL:P3D
REFRESH-INTERVAL:P3D
CALSCALE:GREGORIAN
BEGIN:VEVENT
DTSTART:20181027T140000Z
DTEND:20181027T200000Z
X-MICROSOFT-CDO-ALLDAYEVENT:FALSE
SUMMARY:Fall Craft and Vendor Fair
DESCRIPTION:Get a jump start on your holiday shopping! Support local crafters and direct business consultants and browse a selection of unique gifts\, handmade items and fabulous products. Bring the kids there will be face painting and balloon art. Admission is a free-will donation that will go to the YMCA's No Youth Denied scholarship program. Thank you to our 150+vendors for their support of this event! For more information\, contact Amy at amyk@fremontfamilyymca.org.
X-ALT-DESC;FMTTYPE=text/html:Get a jump start on your holiday shopping! Support local crafters and direct business consultants and browse a selection of unique gifts\, handmade items and fabulous products. Bring the kids&mdash\;there will be face painting and balloon art. Admission is a free-will donation that will go to the YMCA&rsquo\;s No Youth Denied scholarship program. Thank you to our 150+vendors for their support of this event! For more information\, contact Amy at amyk@fremontfamilyymca.org.
LOCATION:Fremont Family YMCA Indoor Tennis Courts
UID:e.881.14253
SEQUENCE:3
DTSTAMP:20260422T085010Z
URL:https://chamber.fremontne.org/events/details/fall-craft-and-vendor-fair-14253
END:VEVENT

END:VCALENDAR
