BEGIN:VCALENDAR
VERSION:2.0
PRODID:-//ChamberMaster//Event Calendar 2.0//EN
METHOD:PUBLISH
X-PUBLISHED-TTL:P3D
REFRESH-INTERVAL:P3D
CALSCALE:GREGORIAN
BEGIN:VEVENT
DTSTART:20180913T163000Z
DTEND:20180913T173000Z
X-MICROSOFT-CDO-ALLDAYEVENT:FALSE
SUMMARY:FaYP September Lunch & Learn
DESCRIPTION:Join Fremont Area Young Professionals on Thursday\, September 13th at Milady Coffeehouse from 11:30 A.M. to 12:30 P.M. to hear from Garry Clark of Greater Fremont Development Council. With the continual growth of our commmunity\, Garry recently conducted a study over the quality of life opportunities in Fremont\, including housing. Come hear about his findings.\n\n\n\nLunch is included.\n\n\n\nPlease RSVP by Wednesday\, September 12th at 12:00 P.M. on FaYP's Facebook Page.
X-ALT-DESC;FMTTYPE=text/html:Join Fremont Area Young Professionals on Thursday\, September 13th at Milady Coffeehouse from 11:30 A.M. to 12:30 P.M. to hear from Garry Clark of Greater Fremont Development Council. With the continual growth of our commmunity\, Garry recently conducted a study over the quality of life opportunities in Fremont\, including housing. Come hear about his findings.<br />\n<br />\nLunch is included.<br />\n<br />\nPlease RSVP by Wednesday\, September 12th at 12:00 P.M. on FaYP&#39\;s Facebook Page.
LOCATION:Milady Coffeehouse
UID:e.881.14248
SEQUENCE:3
DTSTAMP:20260422T090906Z
URL:https://chamber.fremontne.org/events/details/fayp-september-lunch-learn-14248
END:VEVENT

END:VCALENDAR
