BEGIN:VCALENDAR
VERSION:2.0
PRODID:-//ChamberMaster//Event Calendar 2.0//EN
METHOD:PUBLISH
X-PUBLISHED-TTL:P3D
REFRESH-INTERVAL:P3D
CALSCALE:GREGORIAN
BEGIN:VEVENT
DTSTART:20180807T170000Z
DTEND:20180807T180000Z
X-MICROSOFT-CDO-ALLDAYEVENT:FALSE
SUMMARY:Free Essential Oils in Therapy/Massage/Home Seminar
DESCRIPTION:Join us for a Free Non-Solicitation Seminar on Essential Oils and their types and uses for Therapy\, Massage and Home use put on by Physical Therapist Assistant and Licensed Massage Therapist Heather Ruwe from 12-1 on Tue August 7th at Fremont Therapy & Wellness.  Find out what types of oils work on acute and chronic pain and how to use them effectively.  We will also touch on use of CBD oil.
X-ALT-DESC;FMTTYPE=text/html:Join us for a Free Non-Solicitation Seminar on Essential Oils and their types and uses for Therapy\, Massage and Home use put on by Physical Therapist Assistant and Licensed Massage Therapist Heather Ruwe from 12-1 on Tue August 7th at Fremont Therapy &amp\; Wellness.&nbsp\; Find out what types of oils work on acute and chronic pain and how to use them effectively.&nbsp\; We will also touch on use of CBD oil.&nbsp\;&nbsp\;
LOCATION:Fremont Therapy & Wellness 1445 N. Bell St Fremont\, NE . 68025
UID:e.881.14167
SEQUENCE:3
DTSTAMP:20260422T100825Z
URL:https://chamber.fremontne.org/events/details/free-essential-oils-in-therapy-massage-home-seminar-14167
END:VEVENT

END:VCALENDAR
