BEGIN:VCALENDAR
VERSION:2.0
PRODID:-//ChamberMaster//Event Calendar 2.0//EN
METHOD:PUBLISH
X-PUBLISHED-TTL:P3D
REFRESH-INTERVAL:P3D
CALSCALE:GREGORIAN
BEGIN:VEVENT
DTSTART;VALUE=DATE:20190322
DTEND;VALUE=DATE:20190401
TRANSP:TRANSPARENT
X-MICROSOFT-CDO-ALLDAYEVENT:TRUE
SUMMARY:FREE TAX RETURNS FOR FIRST REPSONDERS EXPENDED
DESCRIPTION:CONTACT:\nLinda Yeager                                            \n\nOffice Supervisor\, Liberty Tax Service \n\n1455 N Bell\n\nFremont\, NE 68025                                                                     \n\n402-300-8100                                                                                                              \n\nLiberty21083@kinstlerbrown.com  \n \n\nFOR IMMEDIATE RELEASE\n\n \nLiberty Tax Service Offers Free Tax Preparation \n\nfor First Responders Through March 31\n \n\nFremont\, Ne  - Due to the flooding in eastern Nebraska and western Iowa\, Liberty Tax Service will continue offering free tax preparation for all police officers\, firefighters\, paramedics\, and emergency medical technicians who are first-time customers through March 31\, 2019. The company will offer this service at their participating  Fremont\, Ne   1455 N Bell office.   \n\n \n\n"Each and every day\, first responders work selflessly to save lives\, while also assisting people in surviving the most stressful days of their lives. Liberty Tax wants to give back to these individuals who perform lifesaving miracles every day\," said Linda Yeager Office Supervisor of Liberty Tax Service in Fremont.\n\n \n\nTo find a local Liberty Tax office\, call 866-871-1040 or visit www.libertytax.com. Liberty Tax does take appointments for your convenience\; however\, they are not necessary.\n\n \n\n \n\n \n\n \n\nAbout Liberty Tax\, Inc.\n\nFounded in 1997\, Liberty Tax\, Inc. (OTC PINK: TAXA) is the parent company of Liberty Tax Service. In the U.S. and Canada\, last year\, Liberty Tax prepared approximately two million individual income tax returns in more than 3\,000 offices and online. Liberty Tax's online services are available through eSmart Tax\, Liberty Online\, and DIY Tax and are all backed by the tax professionals at Liberty Tax locations and its nationwide network of seasonal tax preparers. Liberty Tax also supports local communities with fundraising endeavors and contributes as a national sponsor to many charitable causes. For a more in-depth look\, visit Liberty Tax Service and interact with Liberty Tax on Twitter and Facebook.
X-ALT-DESC;FMTTYPE=text/html:<strong><span style="font-family:calibri\,sans-serif">CONTACT:</span></strong>\n<h3><span style="font-family:calibri\,sans-serif">Linda Yeager&nbsp\;&nbsp\;&nbsp\;&nbsp\;&nbsp\;&nbsp\;&nbsp\;&nbsp\;&nbsp\;&nbsp\;&nbsp\;&nbsp\;&nbsp\;&nbsp\;&nbsp\;&nbsp\;&nbsp\;&nbsp\;&nbsp\;&nbsp\;&nbsp\;&nbsp\;&nbsp\;&nbsp\;&nbsp\;&nbsp\;&nbsp\;&nbsp\;&nbsp\;&nbsp\;&nbsp\;&nbsp\;&nbsp\;&nbsp\;&nbsp\;&nbsp\;&nbsp\;&nbsp\; &nbsp\;&nbsp\;&nbsp\;&nbsp\; </span><br />\n<span style="font-family:calibri\,sans-serif">Office Supervisor\, Liberty Tax Service </span><br />\n<span style="font-family:calibri\,sans-serif">1455 N Bell</span><br />\n<span style="font-family:calibri\,sans-serif">Fremont\, NE 68025&nbsp\;&nbsp\;&nbsp\;&nbsp\;&nbsp\;&nbsp\;&nbsp\;&nbsp\;&nbsp\;&nbsp\;&nbsp\;&nbsp\;&nbsp\;&nbsp\;&nbsp\;&nbsp\;&nbsp\;&nbsp\;&nbsp\;&nbsp\;&nbsp\;&nbsp\;&nbsp\;&nbsp\;&nbsp\;&nbsp\;&nbsp\;&nbsp\;&nbsp\;&nbsp\;&nbsp\;&nbsp\;&nbsp\;&nbsp\;&nbsp\;&nbsp\;&nbsp\;&nbsp\;&nbsp\;&nbsp\;&nbsp\;&nbsp\;&nbsp\;&nbsp\;&nbsp\;&nbsp\;&nbsp\;&nbsp\;&nbsp\;&nbsp\;&nbsp\;&nbsp\;&nbsp\;&nbsp\;&nbsp\;&nbsp\;&nbsp\;&nbsp\;&nbsp\;&nbsp\;&nbsp\;&nbsp\;&nbsp\;&nbsp\; &nbsp\;&nbsp\;&nbsp\; </span><br />\n<span style="font-family:calibri\,sans-serif">402-300-8100&nbsp\;&nbsp\;&nbsp\;&nbsp\;&nbsp\;&nbsp\;&nbsp\;&nbsp\;&nbsp\;&nbsp\;&nbsp\;&nbsp\;&nbsp\;&nbsp\;&nbsp\;&nbsp\;&nbsp\;&nbsp\;&nbsp\;&nbsp\;&nbsp\;&nbsp\;&nbsp\;&nbsp\;&nbsp\;&nbsp\;&nbsp\;&nbsp\;&nbsp\;&nbsp\;&nbsp\;&nbsp\;&nbsp\;&nbsp\;&nbsp\;&nbsp\;&nbsp\;&nbsp\;&nbsp\;&nbsp\;&nbsp\;&nbsp\;&nbsp\;&nbsp\;&nbsp\;&nbsp\;&nbsp\;&nbsp\;&nbsp\;&nbsp\;&nbsp\;&nbsp\;&nbsp\;&nbsp\;&nbsp\;&nbsp\;&nbsp\;&nbsp\;&nbsp\;&nbsp\;&nbsp\;&nbsp\;&nbsp\;&nbsp\;&nbsp\;&nbsp\;&nbsp\;&nbsp\;&nbsp\;&nbsp\;&nbsp\;&nbsp\;&nbsp\;&nbsp\;&nbsp\;&nbsp\;&nbsp\;&nbsp\;&nbsp\;&nbsp\;&nbsp\;&nbsp\;&nbsp\;&nbsp\;&nbsp\;&nbsp\;&nbsp\;&nbsp\;&nbsp\;&nbsp\;&nbsp\;&nbsp\;&nbsp\;&nbsp\;&nbsp\;&nbsp\;&nbsp\;&nbsp\;&nbsp\;&nbsp\;&nbsp\;&nbsp\;&nbsp\;&nbsp\;&nbsp\;&nbsp\;&nbsp\;&nbsp\;&nbsp\; </span><br />\n<span style="font-family:calibri\,sans-serif">Liberty21083@kinstlerbrown.com&nbsp\; </span></h3>\n&nbsp\;<br />\n<strong><span style="font-family:calibri\,sans-serif">FOR IMMEDIATE RELEASE</span></strong><br />\n&nbsp\;\n<h1 style="text-align:center"><strong><span style="font-family:calibri\,sans-serif">Liberty Tax Service Offers Free Tax Preparation </span></strong></h1>\n\n<h1 style="text-align:center"><strong><span style="font-family:calibri\,sans-serif">for First Responders Through March 31</span></strong></h1>\n&nbsp\;<br />\n<strong><span style="font-family:calibri\,sans-serif"><span style="font-size:12.0pt">Fremont\, Ne&nbsp\; - </span></span></strong><span style="font-family:calibri\,sans-serif"><span style="font-size:12.0pt">Due to the flooding in eastern Nebraska and western Iowa\, Liberty Tax Service will continue offering free tax preparation for all police officers\, firefighters\, paramedics\, and emergency medical technicians who are first-time customers through March 31\, 2019. The company will offer this service at their participating &nbsp\;Fremont\, Ne &ndash\; 1455 N Bell office.&nbsp\;&nbsp\; </span></span><br />\n&nbsp\;<br />\n<span style="font-family:calibri\,sans-serif">&ldquo\;Each and every day\, first responders work selflessly to save lives\, while also assisting people in surviving the most stressful days of their lives. Liberty Tax wants to give back to these individuals who perform lifesaving miracles every day\,&rdquo\; said Linda Yeager Office Supervisor of Liberty Tax Service in Fremont.</span><br />\n&nbsp\;<br />\n<span style="font-family:calibri\,sans-serif">To find a local Liberty Tax office\, call 866-871-1040 or visit <a href="http://www.libertytax.com/">www.libertytax.com</a></span>. Liberty Tax does take appointments for your convenience\; however\, they are not necessary.<br />\n&nbsp\;<br />\n&nbsp\;<br />\n&nbsp\;<br />\n&nbsp\;<br />\n<strong><span style="font-family:calibri\,sans-serif"><span style="font-size:10.0pt">About Liberty Tax\, Inc.</span></span></strong><br />\n<span style="font-family:calibri\,sans-serif"><span style="font-size:10.0pt">Founded in 1997\, Liberty Tax\, Inc. (OTC PINK: TAXA) is the parent company of Liberty Tax Service. In the U.S. and Canada\, last year\, Liberty Tax prepared approximately two million individual income tax returns in more than 3\,000 offices and online. Liberty Tax&#39\;s online services are available through <a href="http://www.esmarttax.com/">eSmart Tax</a></span>\, <a href="http://www.libertytax.com/online">Liberty Online</a></span>\, and <a href="http://www.freetax.com/">DIY Tax</a> and are all backed by the tax professionals at Liberty Tax locations and its nationwide network of seasonal tax preparers. Liberty Tax also supports local communities with fundraising endeavors and contributes as a national sponsor to many charitable causes. For a more in-depth look\, visit <a href="http://www.libertytax.com/">Liberty Tax Service</a> and interact with Liberty Tax on <a href="https://twitter.com/libertytax">Twitter</a> and <a href="https://www.facebook.com/libertytax">Facebook</a>.&nbsp\;
LOCATION:1455 N BELL STREET FREMONT\, NE
UID:e.881.14499
SEQUENCE:3
DTSTAMP:20260422T004907Z
URL:https://chamber.fremontne.org/events/details/free-tax-returns-for-first-repsonders-expended-14499
END:VEVENT

END:VCALENDAR
