BEGIN:VCALENDAR
VERSION:2.0
PRODID:-//ChamberMaster//Event Calendar 2.0//EN
METHOD:PUBLISH
X-PUBLISHED-TTL:P3D
REFRESH-INTERVAL:P3D
CALSCALE:GREGORIAN
BEGIN:VEVENT
DTSTART:20200127T060000Z
DTEND:20200128T223000Z
X-MICROSOFT-CDO-ALLDAYEVENT:FALSE
SUMMARY:Fremont Community American Red Cross blood drives
DESCRIPTION:Fremont Community American Red Cross blood drives during an emergency need!
X-ALT-DESC;FMTTYPE=text/html:Fremont Community American Red Cross blood drives during an emergency need!
LOCATION:Christensen Field - Main Arena
UID:e.881.14745
SEQUENCE:3
DTSTAMP:20260421T133451Z
URL:https://chamber.fremontne.org/events/details/fremont-community-american-red-cross-blood-drives-01-27-2020-14745
END:VEVENT

END:VCALENDAR
