BEGIN:VCALENDAR
VERSION:2.0
PRODID:-//ChamberMaster//Event Calendar 2.0//EN
METHOD:PUBLISH
X-PUBLISHED-TTL:P3D
REFRESH-INTERVAL:P3D
CALSCALE:GREGORIAN
BEGIN:VEVENT
DTSTART:20190722T170000Z
DTEND:20190722T230000Z
X-MICROSOFT-CDO-ALLDAYEVENT:FALSE
SUMMARY:Fremont Community Rock N Roll Up Your Sleeve Blood Drives
DESCRIPTION:American Red Cross blood drives to help with the need of donations over the summer months!  All presenting donors will receive an American Red Cross t-shirt while supplies last to say thanks for your time and donation.
X-ALT-DESC;FMTTYPE=text/html:American Red Cross blood drives to help with the need of donations over the summer months!&nbsp\; All presenting donors will receive an American Red Cross t-shirt while supplies last to say thanks for your time and donation.
LOCATION:Christensen Field 1710 West 16th Street Fremont\, NE 68025
UID:e.881.14576
SEQUENCE:3
DTSTAMP:20260421T195355Z
URL:https://chamber.fremontne.org/events/details/fremont-community-rock-n-roll-up-your-sleeve-blood-drives-14576
END:VEVENT

END:VCALENDAR
