BEGIN:VCALENDAR
VERSION:2.0
PRODID:-//ChamberMaster//Event Calendar 2.0//EN
METHOD:PUBLISH
X-PUBLISHED-TTL:P3D
REFRESH-INTERVAL:P3D
CALSCALE:GREGORIAN
BEGIN:VEVENT
DTSTART:20200404T230000Z
DTEND:20200405T030000Z
X-MICROSOFT-CDO-ALLDAYEVENT:FALSE
SUMMARY:Fremont Habitat Annual Event
DESCRIPTION:Save the Date for our Annual Fundraising event - details to follow
X-ALT-DESC;FMTTYPE=text/html:Save the Date for our Annual Fundraising event - details to follow
LOCATION:MIdland University
UID:e.881.14711
SEQUENCE:3
DTSTAMP:20260421T123751Z
URL:https://chamber.fremontne.org/events/details/fremont-habitat-annual-event-14711
END:VEVENT

END:VCALENDAR
