BEGIN:VCALENDAR
VERSION:2.0
PRODID:-//ChamberMaster//Event Calendar 2.0//EN
METHOD:PUBLISH
X-PUBLISHED-TTL:P3D
REFRESH-INTERVAL:P3D
CALSCALE:GREGORIAN
BEGIN:VEVENT
DTSTART:20240813T140000Z
DTEND:20240813T150000Z
X-MICROSOFT-CDO-ALLDAYEVENT:FALSE
SUMMARY:Fremont High School's CTE Ribbon Cutting
DESCRIPTION:Ribbon Cutting Ceremony for Fremont High School's Career and Technical Education (CTE) Center  \n\n  Date: Tuesday\, August 13th\, 2024\n\n  Time: 9:00 AM - 10:00 AM\n\n  Location: Fremont High School\, 1750 N Lincoln Ave\, Fremont\, NE 68025\n\n(North side of FHS\, off of 19th Street)\n\nJoin us for a momentous occasion as we celebrate the grand opening of Fremont High School's new Career and Technical Education (CTE) Center!    \n\nThis state-of-the-art facility is a remarkable addition to our community\, offering cutting-edge resources and opportunities for students to gain hands-on experience in various technical and vocational fields.      \n\nDon't miss out on this exciting event! Come and explore the innovative spaces designed to prepare our students for successful futures. Let's gather together to support and celebrate this incredible milestone for Fremont!  \n\nWe look forward to seeing you there!
X-ALT-DESC;FMTTYPE=text/html:<p style="text-align: center\;"><span style="font-size:22px\;"><span style="font-family:verdana\;">&#127881\; <strong>Ribbon Cutting Ceremony for Fremont High School&#39\;s Career and Technical Education (CTE)&nbsp\;Center</strong> &#127881\;</span></span></p>\n\n<p style="text-align: center\;"><span style="font-size:16px\;"><span style="font-family:verdana\;">&#128197\; <strong>Date:</strong> Tuesday\, August 13th\, 2024<br />\n&#128344\; <strong>Time:</strong> 9:00 AM - 10:00 AM<br />\n&#128205\; <strong>Location:</strong> Fremont High School\, 1750 N Lincoln Ave\, Fremont\, NE 68025<br />\n(North side of FHS\, off of 19th Street)</span></span></p>\n\n<p style="text-align: center\;"><span style="font-size:16px\;"><span style="font-family:verdana\;">Join us for a momentous occasion as we celebrate the grand opening of Fremont High School&#39\;s new Career and Technical Education (CTE) Center! &#127891\;&#9986\;&#65039\;</span></span></p>\n\n<p style="text-align: center\;"><span style="font-size:16px\;"><span style="font-family:verdana\;">This state-of-the-art facility is a remarkable addition to our community\, offering cutting-edge resources and opportunities for students to gain hands-on experience in various technical and vocational fields. &#128105\;&zwj\;&#127979\;&#128736\;&#65039\;</span></span></p>\n\n<p style="text-align: center\;"><span style="font-size:16px\;"><span style="font-family:verdana\;">Don&#39\;t miss out on this exciting event! Come and explore the innovative spaces designed to prepare our students for successful futures. Let&#39\;s gather together to support and celebrate this incredible milestone for Fremont! &#127882\;</span></span></p>\n\n<p style="text-align: center\;"><span style="font-size:16px\;"><span style="font-family:verdana\;">We look forward to seeing you there!</span></span></p>\n
LOCATION:Fremont High School Located on the North side of FHS\, off of 19th Street
UID:e.881.16371
SEQUENCE:3
DTSTAMP:20260424T141805Z
URL:https://chamber.fremontne.org/events/details/fremont-high-school-s-cte-ribbon-cutting-16371
END:VEVENT

END:VCALENDAR
