BEGIN:VCALENDAR
VERSION:2.0
PRODID:-//ChamberMaster//Event Calendar 2.0//EN
METHOD:PUBLISH
X-PUBLISHED-TTL:P3D
REFRESH-INTERVAL:P3D
CALSCALE:GREGORIAN
BEGIN:VEVENT
DTSTART:20191201T190000Z
DTEND:20191201T230000Z
X-MICROSOFT-CDO-ALLDAYEVENT:FALSE
SUMMARY:Fremont Opera House Christmas Festival and Open House
DESCRIPTION:Fremont Opera House presents Our Little Christmas Festival & Open House\n\nSunday\, December 1\, 2019\n\n1:00-5:00pm\n\n\n\nWe will have cookies and hot cider for you to enjoy as well as local entertainment! A perfect way to swing into the holiday season! We will also have more than a dozen wreaths beautifully decorated by local businesses for silent auction to help you finish your Christmas decorating! And a raffle for a Wooden Truck crafted by hand and donated by local historian\, John Reeves. Also on display is a Dept. 56 Christmas Village Display by Rev. Doug & Carolyn Smith\, a true treasure to see. Admission is just a $5 donation at the door for this fun event!\n\n\n\nEntertainment Schedule\n\n1:00pm - Johnson Crossing Select Choir directed by MaryBeth Hilbers\n\n2:00pm - Fremont Middle School Ladies First directed by Jennifer Grenier\n\n3:00pm - Fremont High School Chorale directed by Mark Harman\n\n3:30pm - Mike and Amy Spies
X-ALT-DESC;FMTTYPE=text/html:<strong><span style="font-size:12.0pt"><em>Fremont Opera House presents Our Little Christmas Festival &amp\; Open House</em></span><br />\n<span style="font-size:12.0pt">Sunday\, December 1\, 2019</span></strong><br />\n<span style="font-size:12.0pt"><strong>1:00-5:00pm</strong></span><br />\n<br />\n<span style="color:#1C1E21"><span style="font-size:12.0pt">We will have cookies and hot cider for you to enjoy as well as local entertainment! A perfect way to swing into the holiday season! We will also have more than a dozen wreaths beautifully decorated by local businesses for silent auction to help you finish your Christmas decorating! And a raffle for a Wooden Truck crafted by hand and donated by local historian\, John Reeves. Also on display is a Dept. 56 Christmas Village Display by Rev. Doug &amp\; Carolyn Smith\, a true treasure to see. Admission is just a $5 donation at the door for this fun event!<br />\n<br />\n<u>Entertainment Schedule</u></span></span><br />\n<span style="font-size:12.0pt">1:00pm - Johnson Crossing Select Choir directed by MaryBeth Hilbers</span><br />\n<span style="font-size:12.0pt">2:00pm - Fremont Middle School Ladies First directed by Jennifer Grenier</span><br />\n<span style="font-size:12.0pt">3:00pm - Fremont High School Chorale directed by Mark Harman</span><br />\n<span style="font-size:12.0pt">3:30pm - Mike and Amy Spies</span><br />\n&nbsp\;
LOCATION:Fremont Opera House 541 N. Broad St. Fremont\, NE 68025
UID:e.881.14713
SEQUENCE:3
DTSTAMP:20260421T133420Z
URL:https://chamber.fremontne.org/events/details/fremont-opera-house-christmas-festival-and-open-house-14713
END:VEVENT

END:VCALENDAR
