BEGIN:VCALENDAR
VERSION:2.0
PRODID:-//ChamberMaster//Event Calendar 2.0//EN
METHOD:PUBLISH
X-PUBLISHED-TTL:P3D
REFRESH-INTERVAL:P3D
CALSCALE:GREGORIAN
BEGIN:VEVENT
DTSTART:20190607T210000Z
DTEND:20190607T220000Z
X-MICROSOFT-CDO-ALLDAYEVENT:FALSE
SUMMARY:Fresh Farms/Fruit Truck Annual Fruit Tour coming with fresh Georgia Peaches
DESCRIPTION:Fresh Farms USA will be doing our annual fruit tour with our Sweet Georgia Peaches. Click here to reserve your fruit! https://freshfarmsusa.com/product/sweet-georgia-peaches-first-delivery/ Check out our Facebook page here too! https://www.facebook.com/groups/thefruitclubnemo/ Peaches (Cling) 12lb $27 or 25lb $45
X-ALT-DESC;FMTTYPE=text/html:Fresh Farms USA will be doing our annual fruit tour with our Sweet Georgia Peaches. Click here to reserve your fruit! https://freshfarmsusa.com/product/sweet-georgia-peaches-first-delivery/ Check out our Facebook page here too! https://www.facebook.com/groups/thefruitclubnemo/ Peaches (Cling) 12lb $27 or 25lb $45
LOCATION:Sapp Bros Travel Center\, 4260 N Broad St
UID:e.881.14536
SEQUENCE:3
DTSTAMP:20260421T211934Z
URL:https://chamber.fremontne.org/events/details/fresh-farms-fruit-truck-annual-fruit-tour-coming-with-fresh-georgia-peaches-14536
END:VEVENT

END:VCALENDAR
