BEGIN:VCALENDAR
VERSION:2.0
PRODID:-//ChamberMaster//Event Calendar 2.0//EN
METHOD:PUBLISH
X-PUBLISHED-TTL:P3D
REFRESH-INTERVAL:P3D
CALSCALE:GREGORIAN
BEGIN:VEVENT
DTSTART:20241022T140000Z
DTEND:20241022T150000Z
X-MICROSOFT-CDO-ALLDAYEVENT:FALSE
SUMMARY:Goldenrod Salon Ribbon Cutting
DESCRIPTION:Goldenrod Salon's Ribbon Cutting\n\n  Tuesday\, October 22\, 2024\n\n  9:00 AM - 10:00 AM\n\n  141 E 6th St.\, Fremont\, NE\n\nJoin us as we celebrate Goldenrod's new location in Fremont with a special ribbon-cutting ceremony!     This is a fantastic opportunity to meet fellow Chamber members\, tour the new space\, and show your support for this growing local business.\n\nWe look forward to seeing you there for a morning of celebration\, networking\, and community spirit!
X-ALT-DESC;FMTTYPE=text/html:<p style="text-align: center\;"><span style="font-size:22px\;"><span style="font-family:verdana\;"><strong><span style="font-size:24px\;">Goldenrod Salon&#39\;s Ribbon Cutting</span></strong><br />\n&#128197\; Tuesday\, October 22\, 2024<br />\n&#128344\; 9:00 AM - 10:00 AM<br />\n&#128205\; 141 E 6th St.\, Fremont\, NE</span></span></p>\n\n<p style="text-align: center\;"><span style="font-size:22px\;"><span style="font-family:verdana\;">Join us as we celebrate Goldenrod&#39\;s new location in Fremont with a special ribbon-cutting ceremony! &#9986\;&#65039\;&#127872\; This is a fantastic opportunity to meet fellow Chamber members\, tour the new space\, and show your support for this growing local business.</span></span></p>\n\n<p style="text-align: center\;"><span style="font-size:22px\;"><span style="font-family:verdana\;">We look forward to seeing you there for a morning of celebration\, networking\, and community spirit! &#128522\;</span></span></p>\n
LOCATION:
UID:e.881.16384
SEQUENCE:3
DTSTAMP:20260423T160827Z
URL:https://chamber.fremontne.org/events/details/goldenrod-salon-ribbon-cutting-16384
END:VEVENT

END:VCALENDAR
