BEGIN:VCALENDAR
VERSION:2.0
PRODID:-//ChamberMaster//Event Calendar 2.0//EN
METHOD:PUBLISH
X-PUBLISHED-TTL:P3D
REFRESH-INTERVAL:P3D
CALSCALE:GREGORIAN
BEGIN:VEVENT
DTSTART:20180508T210000Z
DTEND:20180508T220000Z
X-MICROSOFT-CDO-ALLDAYEVENT:FALSE
SUMMARY:Government Affairs Council Meeting
DESCRIPTION:
X-ALT-DESC;FMTTYPE=text/html:
LOCATION:Bernie Paden Conference Room Fremont Area Chamber building 128 East Sixth Street
UID:e.881.1926
SEQUENCE:3
DTSTAMP:20260422T154312Z
URL:https://chamber.fremontne.org/events/details/government-affairs-council-meeting-05-08-2018-1926
END:VEVENT

END:VCALENDAR
