BEGIN:VCALENDAR
VERSION:2.0
PRODID:-//ChamberMaster//Event Calendar 2.0//EN
METHOD:PUBLISH
X-PUBLISHED-TTL:P3D
REFRESH-INTERVAL:P3D
CALSCALE:GREGORIAN
BEGIN:VEVENT
DTSTART:20250325T140000Z
DTEND:20250325T150000Z
X-MICROSOFT-CDO-ALLDAYEVENT:FALSE
SUMMARY:Grace Church Chamber Coffee
DESCRIPTION:Start Your Morning with Grace Church Chamber Coffee!   \n\n  Date: Tuesday\, March 25th\n\n  Time: 9:00 - 10:00 AM\n\n  Location: 109 E 6th St\, Fremont\, NE\n\nKickstart your day with coffee\, conversation\, and community! Connect with fellow professionals while enjoying a warm cup of coffee in a welcoming atmosphere. This is a great opportunity to expand your network\, share ideas\, and build relationships that support both your business and personal growth.\n\nDuring the event\, you'll also have the chance to learn more about Grace Church and the positive impact they're making in Fremont. Whether you're a regular Chamber Coffee attendee or joining us for the first time\, you'll feel right at home.\n\nBring a friend\, bring your business cards\, and don't miss out on a morning filled with meaningful connections and great coffee. We can't wait to see you there!
X-ALT-DESC;FMTTYPE=text/html:<p data-end="60" data-start="0" style="text-align: center\;"><span style="font-size:22px\;"><strong><span style="font-family:verdana\;">&#9749\;&#10024\; Start Your Morning with Grace Church Chamber Coffee! &#10024\;&#9749\;</span></strong></span></p>\n\n<p data-end="179" data-start="62" style="text-align: center\;"><span style="font-size:16px\;"><span style="font-family:verdana\;">&#128197\; Date: Tuesday\, March 25th<br data-end="93" data-start="90" />\n&#9200\; Time: 9:00 - 10:00 AM<br data-end="119" data-start="116" />\n&#128205\; Location: 109 E 6th St\, Fremont\, NE</span></span></p>\n\n<p data-end="500" data-start="181" style="text-align: center\;"><span style="font-size:16px\;"><span style="font-family:verdana\;">Kickstart your day with coffee\, conversation\, and community! Connect with fellow professionals while enjoying a warm cup of coffee in a welcoming atmosphere. This is a great opportunity to expand your network\, share ideas\, and build relationships that support both your business and personal growth.</span></span></p>\n\n<p data-end="743" data-start="502" style="text-align: center\;"><span style="font-size:16px\;"><span style="font-family:verdana\;">During the event\, you&rsquo\;ll also have the chance to learn more about Grace Church and the positive impact they&rsquo\;re making in Fremont. Whether you&#39\;re a regular Chamber Coffee attendee or joining us for the first time\, you&rsquo\;ll feel right at home.</span></span></p>\n\n<p data-end="907" data-is-last-node="" data-is-only-node="" data-start="745" style="text-align: center\;"><span style="font-size:16px\;"><span style="font-family:verdana\;">Bring a friend\, bring your business cards\, and don&rsquo\;t miss out on a morning filled with meaningful connections and great coffee. We can&rsquo\;t wait to see you there! &#127775\;</span></span></p>\n
LOCATION:
UID:e.881.16613
SEQUENCE:3
DTSTAMP:20260421T015531Z
URL:https://chamber.fremontne.org/events/details/grace-church-chamber-coffee-16613
END:VEVENT

END:VCALENDAR
